{"text_format":"1","workbook":"xlsx","n_sheets":10,"sheets":["List","ตั้งค่า","รายชื่อ","กรอกแบบประเมิน","การแปรผล","แบบฟอร์มSDQ(ว่าง)","01-ปก","02-ผลการประเมินรายบุคคล","03-สรุปผลประเมินรายชั้น","04-สรุปผลทั้งหมด"],"not_rendered":{"charts":2,"images":5,"macros":1,"external_links":0,"defined_names":5,"comments":0,"pivot_tables":0},"unopened":[],"bounds":{"document_bytes":16777216,"sheet_cells":100000,"rows_first":2000,"rows_last":500,"rows_between":2000,"halvings":0,"cell_chars":16384,"cell_head_chars":4096},"cells_cut":0,"cells_raw":0,"read":"whole","date_system":"1900"}

{"sheet":"List","index":0,"n_rows":60,"n_cols":8,"rows_kept":60,"cut":false,"hidden":true,"merged":[]}
["คำนำหน้า","คำตอบ",null,1,null,"คำตอบ","คำตอบ","คำตอบ"]
["เด็กชาย","ไม่จริง",0,{"$f":"D1+1","v":2},"1 - 30","ไม่","น้อยกว่า  1 เดือน","ไม่เลย"]
["เด็กหญิง","ค่อนข้างจริง",1,{"$f":"D2+1","v":3},"31 - 60","ใช่  มีปัญหาเล็กน้อย","1 - 5  เดือน","เล็กน้อย"]
["นาย","จริง",2,4,null,"ใช่  มีปัญหาชัดเจน","6 - 12  เดือน","ค่อนข้างมาก"]
["นางสาว",null,3,5,null,"ใช่  มีปัญหาอย่างมาก","มากกว่า  1  ปี","มาก"]
["นาง",null,null,6]
["สามเณร",null,null,7]
[null,null,null,8]
[null,null,null,9]
[null,null,null,10]
[null,null,null,11]
[null,null,null,12]
[null,null,null,13]
[null,null,null,14]
[null,null,null,15]
[null,null,null,16]
[null,null,null,17]
[null,null,null,18]
[null,null,null,19]
[null,null,null,20]
[null,null,null,21]
[null,null,null,22]
[null,null,null,23]
[null,null,null,24]
[null,null,null,25]
[null,null,null,26]
[null,null,null,27]
[null,null,null,28]
[null,null,null,29]
[null,null,null,30]
[null,null,null,31]
[null,null,null,32]
[null,null,null,33]
[null,null,null,34]
[null,null,null,35]
[null,null,null,36]
[null,null,null,37]
[null,null,null,38]
[null,null,null,39]
[null,null,null,40]
[null,null,null,41]
[null,null,null,42]
[null,null,null,43]
[null,null,null,44]
[null,null,null,45]
[null,null,null,46]
[null,null,null,47]
[null,null,null,48]
[null,null,null,49]
[null,null,null,50]
[null,null,null,51]
[null,null,null,52]
[null,null,null,53]
[null,null,null,54]
[null,null,null,55]
[null,null,null,56]
[null,null,null,57]
[null,null,null,58]
[null,null,null,59]
[null,null,null,60]

{"sheet":"ตั้งค่า","index":1,"n_rows":19,"n_cols":3,"rows_kept":19,"cut":false,"hidden":false,"merged":[[6,0,6,5],[20,1,20,2]]}
[]
[]
[]
[]
[]
[]
["แบบประเมิน SDQ (ฉบับครูประเมินนักเรียน)  มีแมโคร จำนวนนักเรียนสูงสุด 60 คน"]
[]
[null,"ชั้น (ย่อ)","ป.6/1"]
[null,"ชั้น (เต็ม)","ประถมศึกษาปีที่ 6/1"]
[null,"ปีการศึกษา",2560]
[null,"โรงเรียน","บ้านน้ำสอด"]
[null,"ตำบล/แขวง","และ"]
[null,"อำเภอ/เขต","ทุ่งช้าง"]
[null,"จังหวัด","น่าน"]
[null,"สำนักงานเขตพื้นที่การศึกษา","ประถมศึกษาน่าน เขต 2"]
[null,"ประเมินวันที่","2560-08-16"]
[null,"ผู้ประเมิน","นายบุญธรรม  บุญลาภังค์"]
[null," ครูที่ปรึกษา/ครูผู้สอน/ อื่นๆ (โปรดระบุ)","ครูประจำชั้น"]

{"sheet":"รายชื่อ","index":2,"n_rows":62,"n_cols":5,"rows_kept":62,"cut":false,"hidden":false,"merged":[[0,4,1,4],[0,0,1,0],[0,1,1,1],[0,2,1,2],[0,3,1,3]]}
["เลขที่","คำนำหน้า","ชื่อ","นามสกุล","เพศ"]
[]
[1,"เด็กชาย","วิทวัส","แซ่ท้าว",{"$f":"IF(B3=\"\",\"\",IF(B3=\"เด็กชาย\",\"ชาย\",IF(B3=\"นาย\",\"ชาย\",IF(B3=\"สามเณร\",\"ชาย\",\"หญิง\"))))","v":"ชาย"}]
[{"$f":"A3+1","v":2},"เด็กชาย","สาธิต","แซ่ท้าว",{"$f":"IF(B4=\"\",\"\",IF(B4=\"เด็กชาย\",\"ชาย\",IF(B4=\"นาย\",\"ชาย\",IF(B4=\"สามเณร\",\"ชาย\",\"หญิง\"))))","v":"ชาย"}]
[{"$f":"A4+1","v":3},"เด็กหญิง","ภณิดา","ปทุมไพโรจน์","หญิง"]
[4,"เด็กหญิง","รุ่งทิพย์","ภูริบริรักษ์","หญิง"]
[5,"เด็กหญิง","ปวริสา   ","แซ่ท้าว","หญิง"]
[6,"เด็กหญิง","ดวงรัตน์","แซ่ท้าว","หญิง"]
[7,"เด็กหญิง","วีนัส","แซ่ท้าว","หญิง"]
[8,"เด็กหญิง","มรกต","แซ่ท้าว","หญิง"]
[9,null,null,null,""]
[10,null,null,null,""]
[11,null,null,null,""]
[12,null,null,null,""]
[13,null,null,null,""]
[14,null,null,null,""]
[15,null,null,null,""]
[16,null,null,null,""]
[17,null,null,null,""]
[18,null,null,null,""]
[19,null,null,null,""]
[20,null,null,null,""]
[21,null,null,null,""]
[22,null,null,null,""]
[23,null,null,null,""]
[24,null,null,null,""]
[25,null,null,null,""]
[26,null,null,null,""]
[27,null,null,null,""]
[28,null,null,null,""]
[29,null,null,null,""]
[30,null,null,null,""]
[31,null,null,null,""]
[32,null,null,null,""]
[33,null,null,null,""]
[34,null,null,null,""]
[35,null,null,null,""]
[36,null,null,null,""]
[37,null,null,null,""]
[38,null,null,null,""]
[39,null,null,null,""]
[40,null,null,null,""]
[41,null,null,null,""]
[42,null,null,null,""]
[43,null,null,null,""]
[44,null,null,null,""]
[45,null,null,null,""]
[46,null,null,null,""]
[47,null,null,null,""]
[48,null,null,null,""]
[49,null,null,null,""]
[50,null,null,null,""]
[51,null,null,null,""]
[52,null,null,null,""]
[53,null,null,null,""]
[54,null,null,null,""]
[55,null,null,null,""]
[56,null,null,null,""]
[57,null,null,null,""]
[58,null,null,null,""]
[59,null,null,null,""]
[60,null,null,null,""]

{"sheet":"กรอกแบบประเมิน","index":3,"n_rows":55,"n_cols":12,"rows_kept":55,"cut":false,"hidden":false,"merged":[[13,2,13,4],[14,2,14,4],[15,2,15,4],[16,2,16,4],[17,2,17,4],[8,2,8,4],[9,2,9,4],[10,2,10,4],[11,2,11,4],[12,2,12,4],[7,7,7,10],[0,0,0,6],[6,2,6,4],[3,1,3,5],[4,1,4,5],[7,2,7,4],[0,11,0,14],[35,1,35,5],[31,2,31,4],[28,2,28,4],[30,2,30,4],[29,2,29,4],[23,2,23,4],[24,2,24,4],[25,2,25,4],[26,2,26,4],[27,2,27,4],[18,2,18,4],[19,2,19,4],[20,2,20,4],[21,2,21,4],[22,2,22,4]]}
["แบบประเมิน SDQ (ฉบับครูประเมินนักเรียน)",null,null,null,null,null,null,null,null,null,null,"กรอกข้อมูลเสร็จแล้วกรุณากดปุ่ม \"บันทึก\" ทุกครั้ง"]
[null,"ชื่อ-สกุล","เด็กชายวิทวัส  แซ่ท้าว","ชั้น",{"$f":"ตั้งค่า!C9","v":"ป.6/1"},"เลขที่",1]
[]
[null,"คำชี้แจง ให้ตอบคำถาม ในช่องคำตอบให้ครบทุกข้อ กรุณาตอบให้ตรงกับความเป็นจริงที่เกิดขึ้นในช่วง 6 เดือน",null,null,null,null,null,"เลขที่",1]
[]
[]
[null,"ที่","พฤติกรรมประเมิน",null,null,"คำตอบ"]
[null,1,"ห่วงใยความรู้สึกคนอื่น",null,null,"จริง"]
[null,{"$f":"B8+1","v":2},"อยู่ไม่นิ่ง  นั่งนานๆไม่ได้ ",null,null,"ไม่จริง"]
[null,{"$f":"B9+1","v":3},"มักจะบ่นว่าปวดศีรษะ ปวดท้องหรือไม่สบาย ",null,null,"ไม่จริง"]
[null,4,"เต็มใจแบ่งปันสิ่งของให้เพื่อน(ขนม  ของเล่น ดินสอ เป็นต้น) ",null,null,"ค่อนข้างจริง"]
[null,5,"มักจะอาละวาดหรือโมโหร้าย",null,null,"ไม่จริง"]
[null,6,"ค่อนข้างแยกตัว  ชอบเล่นคนเดียว ",null,null,"ไม่จริง"]
[null,7,"เชื่อฟัง  มักจะทำตามที่ผู้ใหญ่ต้องการ",null,null,"ค่อนข้างจริง"]
[null,8,"กังวลใจหลายเรื่อง  ดูวิตกกังวลเสมอ ",null,null,"ค่อนข้างจริง"]
[null,9,"เป็นที่พึ่งได้เวลาที่คนอื่นเสียใจ  อารมณ์ไม่ดีหรือไม่สบายใจ",null,null,"จริง"]
[null,10,"อยู่ไม่สุข วุ่นวายอย่างมาก ",null,null,"ไม่จริง"]
[null,11,"มีเพื่อนสนิท",null,null,"จริง"]
[null,12,"มักมีเรื่องทะเลาะวิวาทกับเด็กอื่นหรือรังแกเด็กอื่น",null,null,"ไม่จริง"]
[null,13,"ดูไม่มีความสุข ท้อแท้  ร้องไห้บ่อย ",null,null,"ไม่จริง"]
[null,14,"เป็นที่ชื่นชอบของเพื่อน",null,null,"จริง"]
[null,15,"วอกแวกง่าย สมาธิสั้น",null,null,"ไม่จริง"]
[null,16,"เครียด  ไม่ยอมห่างเวลาอยู่ในสถานการณ์ที่ไม่คุ้น",null,null,"ค่อนข้างจริง"]
[null,17,"ใจดีกับเด็กที่เล็กกว่า",null,null,"จริง"]
[null,18,"ชอบโกหกหรือขี้โกง",null,null,"ไม่จริง"]
[null,19,"ถูกเด็กคนอื่นล้อเลียนหรือรังแก",null,null,"ไม่จริง"]
[null,20,"ชอบอาสาช่วยเหลือคนอื่น(พ่อ แม่ ครู เด็กคนอื่น)",null,null,"จริง"]
[null,21,"คิดก่อนทำ",null,null,"ค่อนข้างจริง"]
[null,22,"ขโมยของ ของที่บ้าน ที่โรงเรียนหรือที่อื่น",null,null,"ไม่จริง"]
[null,23,"เข้ากับผู้ใหญ่ได้ดีกว่าเด็กวัยเดียวกัน",null,null,"ไม่จริง"]
[null,24,"ขี้กลัว รู้สึกหวาดกลัวได้ง่าย ",null,null,"ไม่จริง"]
[null,25,"ทำงานได้จนเสร็จ มีความตั้งใจในการทำงาน ",null,null,"จริง"]
[null,"คำถาม","คุณมีความเห็นหรือความกังวลอื่นอีกหรือไม่"]
[null,"คำตอบ","ไม่มีความกังวล"]
[null,null,"สิ้นสุดคำถามหน้าที่ 1"]
[null,"หน้าที่ 2"]
[null,null,"โดยรวมคุณคิดว่าเด็กมีปัญหาในด้านใดด้านหนึ่งต่อไปนี้หรือไม่"]
[null,1,"ด้านอารมณ์  ด้านสมาธิ  ด้านพฤติกรรม หรือความสามารถเข้ากับผู้อื่น "]
[null,null,"ใช่  มีปัญหาเล็กน้อย"]
[null,null,"หมายเหตุ ถ้าตอบว่า “ไม่”  ไม่ต้องตอบข้อต่อไป"]
[null,null,"ถ้าคุณตอบว่า “ใช่”  กรุณาตอบข้อต่อไปนี้ "]
[null,2,"ปัญหานี้เกิดขึ้นมานานเท่าไหร่แล้ว"]
[null,null,"1 - 5  เดือน"]
[]
[null,3,"ปัญหานี้ทำให้เด็กรู้สึกไม่สบายใจหรือไม่ "]
[null,null,"ค่อนข้างมาก"]
[]
[null,null,"ปัญหานี้รบกวนชีวิตประจำวันของเด็กในด้านต่างๆต่อไปนี้หรือไม่"]
[null,4," การคบเพื่อน "]
[null,null,"เล็กน้อย"]
[null,5," การเรียนในห้องเรียน "]
[null,null,"ค่อนข้างมาก"]
[]
[null,6,"ปัญหาของเด็กทำให้คุณหรือชั้นเรียนเกิดความยุ่งยากหรือไม่"]
[null,null,"ค่อนข้างมาก"]

{"sheet":"การแปรผล","index":4,"n_rows":62,"n_cols":79,"rows_kept":62,"cut":false,"hidden":false,"merged":[[0,77,1,77],[0,78,1,78],[0,0,1,0],[0,1,1,1],[0,2,0,26],[0,28,0,33],[0,34,0,58],[0,71,1,71],[0,72,0,74],[0,75,1,75],[0,76,1,76],[0,27,1,27],[0,59,0,63],[0,65,0,69],[0,70,1,70],[0,64,1,64]]}
["ลำดับที่","ชื่อ","คำตอบหน้าที่ 1",null,null,null,null,null,null,null,null,null,null,null,null,null,null,null,null,null,null,null,null,null,null,null,null,"ความกังวลอื่น","คำตอบหน้าที่ 2",null,null,null,null,null,"คะแนน (หน้าที่ 1)",null,null,null,null,null,null,null,null,null,null,null,null,null,null,null,null,null,null,null,null,null,null,null,null,"คะแนนแปรผล (หน้าที่ 1)",null,null,null,null,"รวมคะแนนด้าน 1 - 4 ","แปรผล (หน้าที่ 1)",null,null,null,null,"แปลผลคะแนน 4 ด้าน","คะแนนจุดแข็ง","คะแนนแปรผลหน้าที่ 2 (ด้านหลัง) กรณีตอบว่า \"ใช่\"",null,null,"ผลรวม","การแปลผลด้านหลัง","การแปลผลทั้งหมด","เพศ"]
[null,null,1,{"$f":"C2+1","v":2},{"$f":"D2+1","v":3},4,5,6,7,8,9,10,11,12,13,14,15,16,17,18,19,20,21,22,23,24,25,null,1,{"$f":"AC2+1","v":2},{"$f":"AD2+1","v":3},{"$f":"AE2+1","v":4},{"$f":"AF2+1","v":5},{"$f":"AG2+1","v":6},{"$f":"C2","v":1},{"$f":"D2","v":2},3,4,5,6,7,8,9,10,11,12,13,14,15,16,17,18,19,20,21,22,23,24,25,"1. ด้านอารมณ์","2. ประพฤติ/เกเร","3. สมาธิสั้น","4. การคบเพื่อน","5. ด้านสังคม",null,"ด้านอารมณ์","ประพฤติ/เกเร","สมาธิสั้น","การคบเพื่อน","ด้านสังคม",null,null,"ปัญหานี้ทำให้รู้สึกไม่สบายใจ "," การคบเพื่อน ","การเรียนในห้องเรียน"]
[{"$f":"รายชื่อ!A3","v":1},{"$f":"IF(รายชื่อ!C3=\"\",\"\",รายชื่อ!B3&รายชื่อ!C3 & \"  \" & รายชื่อ!D3)","v":"เด็กชายวิทวัส  แซ่ท้าว"},"จริง","ไม่จริง","ไม่จริง","ค่อนข้างจริง","ไม่จริง","ไม่จริง","ค่อนข้างจริง","ค่อนข้างจริง","จริง","ไม่จริง","จริง","ไม่จริง","ไม่จริง","จริง","ไม่จริง","ค่อนข้างจริง","จริง","ไม่จริง","ไม่จริง","จริง","ค่อนข้างจริง","ไม่จริง","ไม่จริง","ไม่จริง","จริง","ไม่มีความกังวล","ใช่  มีปัญหาเล็กน้อย","1 - 5  เดือน","ค่อนข้างมาก","เล็กน้อย","ค่อนข้างมาก","ค่อนข้างมาก",{"$f":"IF(C3=\"\",\"\",IF(C3=\"ไม่จริง\",0,IF(C3=\"ค่อนข้างจริง\",1,2)))","v":2},0,0,1,0,0,{"$f":"IF(I3=\"\",\"\",IF(I3=\"ไม่จริง\",2,IF(I3=\"ค่อนข้างจริง\",1,0)))","v":1},{"$f":"IF(J3=\"\",\"\",IF(J3=\"ไม่จริง\",0,IF(J3=\"ค่อนข้างจริง\",1,2)))","v":1},{"$f":"IF(K3=\"\",\"\",IF(K3=\"ไม่จริง\",0,IF(K3=\"ค่อนข้างจริง\",1,2)))","v":2},{"$f":"IF(L3=\"\",\"\",IF(L3=\"ไม่จริง\",0,IF(L3=\"ค่อนข้างจริง\",1,2)))","v":0},{"$f":"IF(M3=\"\",\"\",IF(M3=\"ไม่จริง\",2,IF(M3=\"ค่อนข้างจริง\",1,0)))","v":0},{"$f":"IF(N3=\"\",\"\",IF(N3=\"ไม่จริง\",0,IF(N3=\"ค่อนข้างจริง\",1,2)))","v":0},{"$f":"IF(O3=\"\",\"\",IF(O3=\"ไม่จริง\",0,IF(O3=\"ค่อนข้างจริง\",1,2)))","v":0},{"$f":"IF(P3=\"\",\"\",IF(P3=\"ไม่จริง\",2,IF(P3=\"ค่อนข้างจริง\",1,0)))","v":0},{"$f":"IF(Q3=\"\",\"\",IF(Q3=\"ไม่จริง\",0,IF(Q3=\"ค่อนข้างจริง\",1,2)))","v":0},1,2,0,0,2,{"$f":"IF(W3=\"\",\"\",IF(W3=\"ไม่จริง\",2,IF(W3=\"ค่อนข้างจริง\",1,0)))","v":1},{"$f":"IF(X3=\"\",\"\",IF(X3=\"ไม่จริง\",0,IF(X3=\"ค่อนข้างจริง\",1,2)))","v":0},0,0,{"$f":"IF(AA3=\"\",\"\",IF(AA3=\"ไม่จริง\",2,IF(AA3=\"ค่อนข้างจริง\",1,0)))","v":0},{"$f":"IF($B3=\"\",\"\",SUM(AK3,AP3,AU3,AX3,BF3))","v":2},{"$f":"IF($B3=\"\",\"\",SUM(AM3,AO3,AT3,AZ3,BD3))","v":1},{"$f":"IF($B3=\"\",\"\",SUM(AJ3,AR3,AW3,BC3,BG3))","v":1},{"$f":"IF($B3=\"\",\"\",SUM(AN3,AS3,AV3,BA3,BE3))","v":0},{"$f":"IF($B3=\"\",\"\",SUM(AI3,AL3,AQ3,AY3,BB3))","v":9},{"$f":"IF($B3=\"\",\"\",SUM(BH3:BK3))","v":4},{"$f":"IF($B3=\"\",\"\",IF(BH3>=7,\"มีปัญหา\",IF(BH3>=6,\"เสี่ยง\",\"ปกติ\")))","v":"ปกติ"},{"$f":"IF($B3=\"\",\"\",IF(BI3>=6,\"มีปัญหา\",IF(BI3>=5,\"เสี่ยง\",\"ปกติ\")))","v":"ปกติ"},{"$f":"IF($B3=\"\",\"\",IF(BJ3>=7,\"มีปัญหา\",IF(BJ3>=6,\"เสี่ยง\",\"ปกติ\")))","v":"ปกติ"},{"$f":"IF($B3=\"\",\"\",IF(BK3>=5,\"มีปัญหา\",IF(BK3>=4,\"เสี่ยง\",\"ปกติ\")))","v":"ปกติ"},{"$f":"IF($B3=\"\",\"\",IF(BL3>=4,\"ปกติ\",IF(BL3>=3,\"เสี่ยง\",\"มีปัญหา\")))","v":"ปกติ"},{"$f":"IF($B3=\"\",\"\",IF(BM3>=19,\"มีปัญหา\",IF(BM3>=17,\"เสี่ยง\",\"ปกติ\")))","v":"ปกติ"},{"$f":"IF($B3=\"\",\"\",IF(BL3>=4,\"มีจุดแข็ง\",\"ไม่มีจุดแข็ง\"))","v":"มีจุดแข็ง"},{"$f":"IF($B3=\"\",\"\",IF($AC3=\"ไม่\",\"\",IF(AE3=\"มาก\",2,IF(AE3=\"ค่อนข้างมาก\",1,0))))","v":1},{"$f":"IF($B3=\"\",\"\",IF($AC3=\"ไม่\",\"\",IF(AF3=\"มาก\",2,IF(AF3=\"ค่อนข้างมาก\",1,0))))","v":0},{"$f":"IF($B3=\"\",\"\",IF($AC3=\"ไม่\",\"\",IF(AG3=\"มาก\",2,IF(AG3=\"ค่อนข้างมาก\",1,0))))","v":1},{"$f":"IF($B3=\"\",\"\",SUM(BU3:BW3))","v":2},{"$f":"IF($B3=\"\",\"\",IF(BX3>=3,\"มีปัญหา\",IF(BX3>=1,\"เสี่ยง\",\"ปกติ\")))","v":"เสี่ยง"},{"$f":"IF($B3=\"\",\"\",IF(BS3=\"เสี่ยง\",\"เสี่ยง\",IF(BS3=\"มีปัญหา\",\"มีปัญหา\",IF(BY3=\"เสี่ยง\",\"เสี่ยง\",IF(BY3=\"มีปัญหา\",\"มีปัญหา\",\"ปกติ\")))))","v":"เสี่ยง"},{"$f":"รายชื่อ!E3","v":"ชาย"}]
[{"$f":"รายชื่อ!A4","v":2},{"$f":"IF(รายชื่อ!C4=\"\",\"\",รายชื่อ!B4&รายชื่อ!C4 & \"  \" & รายชื่อ!D4)","v":"เด็กชายสาธิต  แซ่ท้าว"},"จริง","จริง","ไม่จริง","ค่อนข้างจริง","ไม่จริง","ไม่จริง","ค่อนข้างจริง","ค่อนข้างจริง","ค่อนข้างจริง","ไม่จริง","จริง","ไม่จริง","ไม่จริง","ค่อนข้างจริง","ค่อนข้างจริง","ไม่จริง","ค่อนข้างจริง","ไม่จริง","ไม่จริง","ค่อนข้างจริง","ค่อนข้างจริง","ไม่จริง","ไม่จริง","ไม่จริง","ค่อนข้างจริง",null,"ไม่",null,null,null,null,null,{"$f":"IF(C4=\"\",\"\",IF(C4=\"ไม่จริง\",0,IF(C4=\"ค่อนข้างจริง\",1,2)))","v":2},{"$f":"IF(D4=\"\",\"\",IF(D4=\"ไม่จริง\",0,IF(D4=\"ค่อนข้างจริง\",1,2)))","v":2},{"$f":"IF(E4=\"\",\"\",IF(E4=\"ไม่จริง\",0,IF(E4=\"ค่อนข้างจริง\",1,2)))","v":0},{"$f":"IF(F4=\"\",\"\",IF(F4=\"ไม่จริง\",0,IF(F4=\"ค่อนข้างจริง\",1,2)))","v":1},{"$f":"IF(G4=\"\",\"\",IF(G4=\"ไม่จริง\",0,IF(G4=\"ค่อนข้างจริง\",1,2)))","v":0},{"$f":"IF(H4=\"\",\"\",IF(H4=\"ไม่จริง\",0,IF(H4=\"ค่อนข้างจริง\",1,2)))","v":0},{"$f":"IF(I4=\"\",\"\",IF(I4=\"ไม่จริง\",2,IF(I4=\"ค่อนข้างจริง\",1,0)))","v":1},{"$f":"IF(J4=\"\",\"\",IF(J4=\"ไม่จริง\",0,IF(J4=\"ค่อนข้างจริง\",1,2)))","v":1},{"$f":"IF(K4=\"\",\"\",IF(K4=\"ไม่จริง\",0,IF(K4=\"ค่อนข้างจริง\",1,2)))","v":1},{"$f":"IF(L4=\"\",\"\",IF(L4=\"ไม่จริง\",0,IF(L4=\"ค่อนข้างจริง\",1,2)))","v":0},{"$f":"IF(M4=\"\",\"\",IF(M4=\"ไม่จริง\",2,IF(M4=\"ค่อนข้างจริง\",1,0)))","v":0},{"$f":"IF(N4=\"\",\"\",IF(N4=\"ไม่จริง\",0,IF(N4=\"ค่อนข้างจริง\",1,2)))","v":0},{"$f":"IF(O4=\"\",\"\",IF(O4=\"ไม่จริง\",0,IF(O4=\"ค่อนข้างจริง\",1,2)))","v":0},{"$f":"IF(P4=\"\",\"\",IF(P4=\"ไม่จริง\",2,IF(P4=\"ค่อนข้างจริง\",1,0)))","v":1},{"$f":"IF(Q4=\"\",\"\",IF(Q4=\"ไม่จริง\",0,IF(Q4=\"ค่อนข้างจริง\",1,2)))","v":1},{"$f":"IF(R4=\"\",\"\",IF(R4=\"ไม่จริง\",0,IF(R4=\"ค่อนข้างจริง\",1,2)))","v":0},{"$f":"IF(S4=\"\",\"\",IF(S4=\"ไม่จริง\",0,IF(S4=\"ค่อนข้างจริง\",1,2)))","v":1},{"$f":"IF(T4=\"\",\"\",IF(T4=\"ไม่จริง\",0,IF(T4=\"ค่อนข้างจริง\",1,2)))","v":0},{"$f":"IF(U4=\"\",\"\",IF(U4=\"ไม่จริง\",0,IF(U4=\"ค่อนข้างจริง\",1,2)))","v":0},{"$f":"IF(V4=\"\",\"\",IF(V4=\"ไม่จริง\",0,IF(V4=\"ค่อนข้างจริง\",1,2)))","v":1},{"$f":"IF(W4=\"\",\"\",IF(W4=\"ไม่จริง\",2,IF(W4=\"ค่อนข้างจริง\",1,0)))","v":1},0,0,0,{"$f":"IF(AA4=\"\",\"\",IF(AA4=\"ไม่จริง\",2,IF(AA4=\"ค่อนข้างจริง\",1,0)))","v":1},{"$f":"IF($B4=\"\",\"\",SUM(AK4,AP4,AU4,AX4,BF4))","v":1},{"$f":"IF($B4=\"\",\"\",SUM(AM4,AO4,AT4,AZ4,BD4))","v":1},{"$f":"IF($B4=\"\",\"\",SUM(AJ4,AR4,AW4,BC4,BG4))","v":5},{"$f":"IF($B4=\"\",\"\",SUM(AN4,AS4,AV4,BA4,BE4))","v":1},{"$f":"IF($B4=\"\",\"\",SUM(AI4,AL4,AQ4,AY4,BB4))","v":6},{"$f":"IF($B4=\"\",\"\",SUM(BH4:BK4))","v":8},{"$f":"IF($B4=\"\",\"\",IF(BH4>=7,\"มีปัญหา\",IF(BH4>=6,\"เสี่ยง\",\"ปกติ\")))","v":"ปกติ"},{"$f":"IF($B4=\"\",\"\",IF(BI4>=6,\"มีปัญหา\",IF(BI4>=5,\"เสี่ยง\",\"ปกติ\")))","v":"ปกติ"},{"$f":"IF($B4=\"\",\"\",IF(BJ4>=7,\"มีปัญหา\",IF(BJ4>=6,\"เสี่ยง\",\"ปกติ\")))","v":"ปกติ"},{"$f":"IF($B4=\"\",\"\",IF(BK4>=5,\"มีปัญหา\",IF(BK4>=4,\"เสี่ยง\",\"ปกติ\")))","v":"ปกติ"},{"$f":"IF($B4=\"\",\"\",IF(BL4>=4,\"ปกติ\",IF(BL4>=3,\"เสี่ยง\",\"มีปัญหา\")))","v":"ปกติ"},{"$f":"IF($B4=\"\",\"\",IF(BM4>=19,\"มีปัญหา\",IF(BM4>=17,\"เสี่ยง\",\"ปกติ\")))","v":"ปกติ"},{"$f":"IF($B4=\"\",\"\",IF(BL4>=4,\"มีจุดแข็ง\",\"ไม่มีจุดแข็ง\"))","v":"มีจุดแข็ง"},{"$f":"IF($B4=\"\",\"\",IF($AC4=\"ไม่\",\"\",IF(AE4=\"มาก\",2,IF(AE4=\"ค่อนข้างมาก\",1,0))))","v":""},{"$f":"IF($B4=\"\",\"\",IF($AC4=\"ไม่\",\"\",IF(AF4=\"มาก\",2,IF(AF4=\"ค่อนข้างมาก\",1,0))))","v":""},{"$f":"IF($B4=\"\",\"\",IF($AC4=\"ไม่\",\"\",IF(AG4=\"มาก\",2,IF(AG4=\"ค่อนข้างมาก\",1,0))))","v":""},{"$f":"IF($B4=\"\",\"\",SUM(BU4:BW4))","v":0},{"$f":"IF($B4=\"\",\"\",IF(BX4>=3,\"มีปัญหา\",IF(BX4>=1,\"เสี่ยง\",\"ปกติ\")))","v":"ปกติ"},{"$f":"IF($B4=\"\",\"\",IF(BS4=\"เสี่ยง\",\"เสี่ยง\",IF(BS4=\"มีปัญหา\",\"มีปัญหา\",IF(BY4=\"เสี่ยง\",\"เสี่ยง\",IF(BY4=\"มีปัญหา\",\"มีปัญหา\",\"ปกติ\")))))","v":"ปกติ"},{"$f":"รายชื่อ!E4","v":"ชาย"}]
[{"$f":"รายชื่อ!A5","v":3},{"$f":"IF(รายชื่อ!C5=\"\",\"\",รายชื่อ!B5&รายชื่อ!C5 & \"  \" & รายชื่อ!D5)","v":"เด็กหญิงภณิดา  ปทุมไพโรจน์"},"จริง","ไม่จริง","ไม่จริง","จริง","ไม่จริง","จริง","จริง","จริง","ไม่จริง","ไม่จริง","จริง","ไม่จริง","ไม่จริง","จริง","จริง","จริง","จริง","ไม่จริง","ไม่จริง","จริง","ไม่จริง","ไม่จริง","ไม่จริง","จริง","ค่อนข้างจริง",null,"ใช่  มีปัญหาเล็กน้อย","น้อยกว่า  1 เดือน","เล็กน้อย","ไม่เลย","ค่อนข้างมาก","เล็กน้อย",2,0,0,2,0,2,0,2,0,0,0,0,0,0,2,2,2,0,0,2,2,0,0,2,1,6,0,5,2,8,13,"เสี่ยง","ปกติ","ปกติ","ปกติ","ปกติ","ปกติ","มีจุดแข็ง",0,0,1,1,"เสี่ยง","เสี่ยง",{"$f":"รายชื่อ!E5","v":"หญิง"}]
[{"$f":"รายชื่อ!A6","v":4},{"$f":"IF(รายชื่อ!C6=\"\",\"\",รายชื่อ!B6&รายชื่อ!C6 & \"  \" & รายชื่อ!D6)","v":"เด็กหญิงรุ่งทิพย์  ภูริบริรักษ์"},null,null,null,null,null,null,null,null,null,null,null,null,null,null,null,null,null,null,null,null,null,null,null,null,null,null,null,null,null,null,null,null,"","","","","","","","","","","","","","","","","","","","","","","","","",0,0,0,0,0,0,"ปกติ","ปกติ","ปกติ","ปกติ","มีปัญหา","ปกติ","ไม่มีจุดแข็ง",0,0,0,0,"ปกติ","ปกติ",{"$f":"รายชื่อ!E6","v":"หญิง"}]
[{"$f":"รายชื่อ!A7","v":5},{"$f":"IF(รายชื่อ!C7=\"\",\"\",รายชื่อ!B7&รายชื่อ!C7 & \"  \" & รายชื่อ!D7)","v":"เด็กหญิงปวริสา     แซ่ท้าว"},null,null,null,null,null,null,null,null,null,null,null,null,null,null,null,null,null,null,null,null,null,null,null,null,null,null,null,null,null,null,null,null,"","","","","","","","","","","","","","","","","","","","","","","","","",0,0,0,0,0,0,"ปกติ","ปกติ","ปกติ","ปกติ","มีปัญหา","ปกติ","ไม่มีจุดแข็ง",0,0,0,0,"ปกติ","ปกติ",{"$f":"รายชื่อ!E7","v":"หญิง"}]
[{"$f":"รายชื่อ!A8","v":6},{"$f":"IF(รายชื่อ!C8=\"\",\"\",รายชื่อ!B8&รายชื่อ!C8 & \"  \" & รายชื่อ!D8)","v":"เด็กหญิงดวงรัตน์  แซ่ท้าว"},null,null,null,null,null,null,null,null,null,null,null,null,null,null,null,null,null,null,null,null,null,null,null,null,null,null,null,null,null,null,null,null,"","","","","","","","","","","","","","","","","","","","","","","","","",0,0,0,0,0,0,"ปกติ","ปกติ","ปกติ","ปกติ","มีปัญหา","ปกติ","ไม่มีจุดแข็ง",0,0,0,0,"ปกติ","ปกติ",{"$f":"รายชื่อ!E8","v":"หญิง"}]
[{"$f":"รายชื่อ!A9","v":7},{"$f":"IF(รายชื่อ!C9=\"\",\"\",รายชื่อ!B9&รายชื่อ!C9 & \"  \" & รายชื่อ!D9)","v":"เด็กหญิงวีนัส  แซ่ท้าว"},null,null,null,null,null,null,null,null,null,null,null,null,null,null,null,null,null,null,null,null,null,null,null,null,null,null,null,null,null,null,null,null,"","","","","","","","","","","","","","","","","","","","","","","","","",0,0,0,0,0,0,"ปกติ","ปกติ","ปกติ","ปกติ","มีปัญหา","ปกติ","ไม่มีจุดแข็ง",0,0,0,0,"ปกติ","ปกติ",{"$f":"รายชื่อ!E9","v":"หญิง"}]
[{"$f":"รายชื่อ!A10","v":8},{"$f":"IF(รายชื่อ!C10=\"\",\"\",รายชื่อ!B10&รายชื่อ!C10 & \"  \" & รายชื่อ!D10)","v":"เด็กหญิงมรกต  แซ่ท้าว"},null,null,null,null,null,null,null,null,null,null,null,null,null,null,null,null,null,null,null,null,null,null,null,null,null,null,null,null,null,null,null,null,"","","","","","","","","","","","","","","","","","","","","","","","","",0,0,0,0,0,0,"ปกติ","ปกติ","ปกติ","ปกติ","มีปัญหา","ปกติ","ไม่มีจุดแข็ง",0,0,0,0,"ปกติ","ปกติ",{"$f":"รายชื่อ!E10","v":"หญิง"}]
[{"$f":"รายชื่อ!A11","v":9},{"$f":"IF(รายชื่อ!C11=\"\",\"\",รายชื่อ!B11&รายชื่อ!C11 & \"  \" & รายชื่อ!D11)","v":""},null,null,null,null,null,null,null,null,null,null,null,null,null,null,null,null,null,null,null,null,null,null,null,null,null,null,null,null,null,null,null,null,"","","","","","","","","","","","","","","","","","","","","","","","","","","","","","","","","","","","","","","","","","","","",{"$f":"รายชื่อ!E11","v":""}]
[{"$f":"รายชื่อ!A12","v":10},{"$f":"IF(รายชื่อ!C12=\"\",\"\",รายชื่อ!B12&รายชื่อ!C12 & \"  \" & รายชื่อ!D12)","v":""},null,null,null,null,null,null,null,null,null,null,null,null,null,null,null,null,null,null,null,null,null,null,null,null,null,null,null,null,null,null,null,null,"","","","","","","","","","","","","","","","","","","","","","","","","","","","","","","","","","","","","","","","","","","","",{"$f":"รายชื่อ!E12","v":""}]
[{"$f":"รายชื่อ!A13","v":11},{"$f":"IF(รายชื่อ!C13=\"\",\"\",รายชื่อ!B13&รายชื่อ!C13 & \"  \" & รายชื่อ!D13)","v":""},null,null,null,null,null,null,null,null,null,null,null,null,null,null,null,null,null,null,null,null,null,null,null,null,null,null,null,null,null,null,null,null,"","","","","","","","","","","","","","","","","","","","","","","","","","","","","","","","","","","","","","","","","","","","",{"$f":"รายชื่อ!E13","v":""}]
[{"$f":"รายชื่อ!A14","v":12},{"$f":"IF(รายชื่อ!C14=\"\",\"\",รายชื่อ!B14&รายชื่อ!C14 & \"  \" & รายชื่อ!D14)","v":""},null,null,null,null,null,null,null,null,null,null,null,null,null,null,null,null,null,null,null,null,null,null,null,null,null,null,null,null,null,null,null,null,"","","","","","","","","","","","","","","","","","","","","","","","","","","","","","","","","","","","","","","","","","","","",{"$f":"รายชื่อ!E14","v":""}]
[{"$f":"รายชื่อ!A15","v":13},{"$f":"IF(รายชื่อ!C15=\"\",\"\",รายชื่อ!B15&รายชื่อ!C15 & \"  \" & รายชื่อ!D15)","v":""},null,null,null,null,null,null,null,null,null,null,null,null,null,null,null,null,null,null,null,null,null,null,null,null,null,null,null,null,null,null,null,null,"","","","","","","","","","","","","","","","","","","","","","","","","","","","","","","","","","","","","","","","","","","","",{"$f":"รายชื่อ!E15","v":""}]
[{"$f":"รายชื่อ!A16","v":14},{"$f":"IF(รายชื่อ!C16=\"\",\"\",รายชื่อ!B16&รายชื่อ!C16 & \"  \" & รายชื่อ!D16)","v":""},null,null,null,null,null,null,null,null,null,null,null,null,null,null,null,null,null,null,null,null,null,null,null,null,null,null,null,null,null,null,null,null,"","","","","","","","","","","","","","","","","","","","","","","","","","","","","","","","","","","","","","","","","","","","",{"$f":"รายชื่อ!E16","v":""}]
[{"$f":"รายชื่อ!A17","v":15},{"$f":"IF(รายชื่อ!C17=\"\",\"\",รายชื่อ!B17&รายชื่อ!C17 & \"  \" & รายชื่อ!D17)","v":""},null,null,null,null,null,null,null,null,null,null,null,null,null,null,null,null,null,null,null,null,null,null,null,null,null,null,null,null,null,null,null,null,"","","","","","","","","","","","","","","","","","","","","","","","","","","","","","","","","","","","","","","","","","","","",{"$f":"รายชื่อ!E17","v":""}]
[{"$f":"รายชื่อ!A18","v":16},{"$f":"IF(รายชื่อ!C18=\"\",\"\",รายชื่อ!B18&รายชื่อ!C18 & \"  \" & รายชื่อ!D18)","v":""},null,null,null,null,null,null,null,null,null,null,null,null,null,null,null,null,null,null,null,null,null,null,null,null,null,null,null,null,null,null,null,null,"","","","","","","","","","","","","","","","","","","","","","","","","","","","","","","","","","","","","","","","","","","","",{"$f":"รายชื่อ!E18","v":""}]
[{"$f":"รายชื่อ!A19","v":17},{"$f":"IF(รายชื่อ!C19=\"\",\"\",รายชื่อ!B19&รายชื่อ!C19 & \"  \" & รายชื่อ!D19)","v":""},null,null,null,null,null,null,null,null,null,null,null,null,null,null,null,null,null,null,null,null,null,null,null,null,null,null,null,null,null,null,null,null,"","","","","","","","","","","","","","","","","","","","","",{"$f":"IF(X19=\"\",\"\",IF(X19=\"ไม่จริง\",0,IF(X19=\"ค่อนข้างจริง\",1,2)))","v":""},"","","","","","","","","","","","","","","","","","","","","","",{"$f":"รายชื่อ!E19","v":""}]
[{"$f":"รายชื่อ!A20","v":18},{"$f":"IF(รายชื่อ!C20=\"\",\"\",รายชื่อ!B20&รายชื่อ!C20 & \"  \" & รายชื่อ!D20)","v":""},null,null,null,null,null,null,null,null,null,null,null,null,null,null,null,null,null,null,null,null,null,null,null,null,null,null,null,null,null,null,null,null,"","","","","","","","","","","","","","","","","","","","","","","","","","","","","","","","","","","","","","","","","","","","",{"$f":"รายชื่อ!E20","v":""}]
[{"$f":"รายชื่อ!A21","v":19},{"$f":"IF(รายชื่อ!C21=\"\",\"\",รายชื่อ!B21&รายชื่อ!C21 & \"  \" & รายชื่อ!D21)","v":""},null,null,null,null,null,null,null,null,null,null,null,null,null,null,null,null,null,null,null,null,null,null,null,null,null,null,null,null,null,null,null,null,"","","","","","","","","","","","","","","","","","","","","","","","","","","","","","","","","","","","","","","","","","","","",{"$f":"รายชื่อ!E21","v":""}]
[{"$f":"รายชื่อ!A22","v":20},{"$f":"IF(รายชื่อ!C22=\"\",\"\",รายชื่อ!B22&รายชื่อ!C22 & \"  \" & รายชื่อ!D22)","v":""},null,null,null,null,null,null,null,null,null,null,null,null,null,null,null,null,null,null,null,null,null,null,null,null,null,null,null,null,null,null,null,null,"","","","","","","","","","","","","","","","","","","","","","","","","","","","","","","","","","","","","","","","","","","","",{"$f":"รายชื่อ!E22","v":""}]
[{"$f":"รายชื่อ!A23","v":21},{"$f":"IF(รายชื่อ!C23=\"\",\"\",รายชื่อ!B23&รายชื่อ!C23 & \"  \" & รายชื่อ!D23)","v":""},null,null,null,null,null,null,null,null,null,null,null,null,null,null,null,null,null,null,null,null,null,null,null,null,null,null,null,null,null,null,null,null,"","","","","","","","","","","","","","","","","","","","","","","","","","","","","","","","","","","","","","","","","","","","",{"$f":"รายชื่อ!E23","v":""}]
[{"$f":"รายชื่อ!A24","v":22},{"$f":"IF(รายชื่อ!C24=\"\",\"\",รายชื่อ!B24&รายชื่อ!C24 & \"  \" & รายชื่อ!D24)","v":""},null,null,null,null,null,null,null,null,null,null,null,null,null,null,null,null,null,null,null,null,null,null,null,null,null,null,null,null,null,null,null,null,"","","","","","","","","","","","","","","","","","","","","","","","","","","","","","","","","","","","","","","","","","","","",{"$f":"รายชื่อ!E24","v":""}]
[{"$f":"รายชื่อ!A25","v":23},{"$f":"IF(รายชื่อ!C25=\"\",\"\",รายชื่อ!B25&รายชื่อ!C25 & \"  \" & รายชื่อ!D25)","v":""},null,null,null,null,null,null,null,null,null,null,null,null,null,null,null,null,null,null,null,null,null,null,null,null,null,null,null,null,null,null,null,null,"","","","","","","","","","","","","","","","","","","","","","","","","","","","","","","","","","","","","","","","","","","","",{"$f":"รายชื่อ!E25","v":""}]
[{"$f":"รายชื่อ!A26","v":24},{"$f":"IF(รายชื่อ!C26=\"\",\"\",รายชื่อ!B26&รายชื่อ!C26 & \"  \" & รายชื่อ!D26)","v":""},null,null,null,null,null,null,null,null,null,null,null,null,null,null,null,null,null,null,null,null,null,null,null,null,null,null,null,null,null,null,null,null,"","","","","","","","","","","","","","","","","","","","","","","","","","","","","","","","","","","","","","","","","","","","",{"$f":"รายชื่อ!E26","v":""}]
[{"$f":"รายชื่อ!A27","v":25},{"$f":"IF(รายชื่อ!C27=\"\",\"\",รายชื่อ!B27&รายชื่อ!C27 & \"  \" & รายชื่อ!D27)","v":""},null,null,null,null,null,null,null,null,null,null,null,null,null,null,null,null,null,null,null,null,null,null,null,null,null,null,null,null,null,null,null,null,"","","","","","","","","","","","","","","","","","","","","","","","","","","","","","","","","","","","","","","","","","","","",{"$f":"รายชื่อ!E27","v":""}]
[{"$f":"รายชื่อ!A28","v":26},{"$f":"IF(รายชื่อ!C28=\"\",\"\",รายชื่อ!B28&รายชื่อ!C28 & \"  \" & รายชื่อ!D28)","v":""},null,null,null,null,null,null,null,null,null,null,null,null,null,null,null,null,null,null,null,null,null,null,null,null,null,null,null,null,null,null,null,null,"","","","","","","","","","","","","","","","","","","","","","","","","","","","","","","","","","","","","","","","","","","","",{"$f":"รายชื่อ!E28","v":""}]
[{"$f":"รายชื่อ!A29","v":27},{"$f":"IF(รายชื่อ!C29=\"\",\"\",รายชื่อ!B29&รายชื่อ!C29 & \"  \" & รายชื่อ!D29)","v":""},null,null,null,null,null,null,null,null,null,null,null,null,null,null,null,null,null,null,null,null,null,null,null,null,null,null,null,null,null,null,null,null,"","","","","","","","","","","","","","","","","","","","","","","","","","","","","","","","","","","","","","","","","","","","",{"$f":"รายชื่อ!E29","v":""}]
[{"$f":"รายชื่อ!A30","v":28},{"$f":"IF(รายชื่อ!C30=\"\",\"\",รายชื่อ!B30&รายชื่อ!C30 & \"  \" & รายชื่อ!D30)","v":""},null,null,null,null,null,null,null,null,null,null,null,null,null,null,null,null,null,null,null,null,null,null,null,null,null,null,null,null,null,null,null,null,"","","","","","","","","","","","","","","","","","","","","","","","","","","","","","","","","","","","","","","","","","","","",{"$f":"รายชื่อ!E30","v":""}]
[{"$f":"รายชื่อ!A31","v":29},{"$f":"IF(รายชื่อ!C31=\"\",\"\",รายชื่อ!B31&รายชื่อ!C31 & \"  \" & รายชื่อ!D31)","v":""},null,null,null,null,null,null,null,null,null,null,null,null,null,null,null,null,null,null,null,null,null,null,null,null,null,null,null,null,null,null,null,null,"","","","","","","","","","","","","","","","","","","","","","","","","","","","","","","","","","","","","","","","","","","","",{"$f":"รายชื่อ!E31","v":""}]
[{"$f":"รายชื่อ!A32","v":30},{"$f":"IF(รายชื่อ!C32=\"\",\"\",รายชื่อ!B32&รายชื่อ!C32 & \"  \" & รายชื่อ!D32)","v":""},null,null,null,null,null,null,null,null,null,null,null,null,null,null,null,null,null,null,null,null,null,null,null,null,null,null,null,null,null,null,null,null,"","","","","","","","","","","","","","","","","","","","","","","","","","","","","","","","","","","","","","","","","","","","",{"$f":"รายชื่อ!E32","v":""}]
[{"$f":"รายชื่อ!A33","v":31},{"$f":"IF(รายชื่อ!C33=\"\",\"\",รายชื่อ!B33&รายชื่อ!C33 & \"  \" & รายชื่อ!D33)","v":""},null,null,null,null,null,null,null,null,null,null,null,null,null,null,null,null,null,null,null,null,null,null,null,null,null,null,null,null,null,null,null,null,"","","","","","","","","","","","","","","","","","","","","","","","","","","","","","","","","","","","","","","","","","","","",{"$f":"รายชื่อ!E33","v":""}]
[{"$f":"รายชื่อ!A34","v":32},{"$f":"IF(รายชื่อ!C34=\"\",\"\",รายชื่อ!B34&รายชื่อ!C34 & \"  \" & รายชื่อ!D34)","v":""},null,null,null,null,null,null,null,null,null,null,null,null,null,null,null,null,null,null,null,null,null,null,null,null,null,null,null,null,null,null,null,null,"","","","","","","","","","","","","","","","","","","","","","","","","","","","","","","","","","","","","","","","","","","","",{"$f":"รายชื่อ!E34","v":""}]
[{"$f":"รายชื่อ!A35","v":33},{"$f":"IF(รายชื่อ!C35=\"\",\"\",รายชื่อ!B35&รายชื่อ!C35 & \"  \" & รายชื่อ!D35)","v":""},null,null,null,null,null,null,null,null,null,null,null,null,null,null,null,null,null,null,null,null,null,null,null,null,null,null,null,null,null,null,null,null,"","","","","","","","","","","","","","","","","","","","","","","","","","","","","","","","","","","","","","","","","","","","",{"$f":"รายชื่อ!E35","v":""}]
[{"$f":"รายชื่อ!A36","v":34},{"$f":"IF(รายชื่อ!C36=\"\",\"\",รายชื่อ!B36&รายชื่อ!C36 & \"  \" & รายชื่อ!D36)","v":""},null,null,null,null,null,null,null,null,null,null,null,null,null,null,null,null,null,null,null,null,null,null,null,null,null,null,null,null,null,null,null,null,"","","","","","","","","","","","","","","","","","","","","","","","","","","","","","","","","","","","","","","","","","","","",{"$f":"รายชื่อ!E36","v":""}]
[{"$f":"รายชื่อ!A37","v":35},{"$f":"IF(รายชื่อ!C37=\"\",\"\",รายชื่อ!B37&รายชื่อ!C37 & \"  \" & รายชื่อ!D37)","v":""},null,null,null,null,null,null,null,null,null,null,null,null,null,null,null,null,null,null,null,null,null,null,null,null,null,null,null,null,null,null,null,null,"","","","","","","","","","","","","","","","","","","","","","","","","","","","","","","","","","","","","","","","","","","","",{"$f":"รายชื่อ!E37","v":""}]
[{"$f":"รายชื่อ!A38","v":36},{"$f":"IF(รายชื่อ!C38=\"\",\"\",รายชื่อ!B38&รายชื่อ!C38 & \"  \" & รายชื่อ!D38)","v":""},null,null,null,null,null,null,null,null,null,null,null,null,null,null,null,null,null,null,null,null,null,null,null,null,null,null,null,null,null,null,null,null,"","","","","","","","","","","","","","","","","","","","","","","","","","","","","","","","","","","","","","","","","","","","",{"$f":"รายชื่อ!E38","v":""}]
[{"$f":"รายชื่อ!A39","v":37},{"$f":"IF(รายชื่อ!C39=\"\",\"\",รายชื่อ!B39&รายชื่อ!C39 & \"  \" & รายชื่อ!D39)","v":""},null,null,null,null,null,null,null,null,null,null,null,null,null,null,null,null,null,null,null,null,null,null,null,null,null,null,null,null,null,null,null,null,"","","","","","","","","","","","","","","","","","","","","","","","","","","","","","","","","","","","","","","","","","","","",{"$f":"รายชื่อ!E39","v":""}]
[{"$f":"รายชื่อ!A40","v":38},{"$f":"IF(รายชื่อ!C40=\"\",\"\",รายชื่อ!B40&รายชื่อ!C40 & \"  \" & รายชื่อ!D40)","v":""},null,null,null,null,null,null,null,null,null,null,null,null,null,null,null,null,null,null,null,null,null,null,null,null,null,null,null,null,null,null,null,null,"","","","","","","","","","","","","","","","","","","","","","","","","","","","","","","","","","","","","","","","","","","","",{"$f":"รายชื่อ!E40","v":""}]
[{"$f":"รายชื่อ!A41","v":39},{"$f":"IF(รายชื่อ!C41=\"\",\"\",รายชื่อ!B41&รายชื่อ!C41 & \"  \" & รายชื่อ!D41)","v":""},null,null,null,null,null,null,null,null,null,null,null,null,null,null,null,null,null,null,null,null,null,null,null,null,null,null,null,null,null,null,null,null,"","","","","","","","","","","","","","","","","","","","","","","","","","","","","","","","","","","","","","","","","","","","",{"$f":"รายชื่อ!E41","v":""}]
[{"$f":"รายชื่อ!A42","v":40},{"$f":"IF(รายชื่อ!C42=\"\",\"\",รายชื่อ!B42&รายชื่อ!C42 & \"  \" & รายชื่อ!D42)","v":""},null,null,null,null,null,null,null,null,null,null,null,null,null,null,null,null,null,null,null,null,null,null,null,null,null,null,null,null,null,null,null,null,"","","","","","","","","","","","","","","","","","","","","","","","","","","","","","","","","","","","","","","","","","","","",{"$f":"รายชื่อ!E42","v":""}]
[{"$f":"รายชื่อ!A43","v":41},{"$f":"IF(รายชื่อ!C43=\"\",\"\",รายชื่อ!B43&รายชื่อ!C43 & \"  \" & รายชื่อ!D43)","v":""},null,null,null,null,null,null,null,null,null,null,null,null,null,null,null,null,null,null,null,null,null,null,null,null,null,null,null,null,null,null,null,null,"","","","","","","","","","","","","","","","","","","","","","","","","","","","","","","","","","","","","","","","","","","","",{"$f":"รายชื่อ!E43","v":""}]
[{"$f":"รายชื่อ!A44","v":42},{"$f":"IF(รายชื่อ!C44=\"\",\"\",รายชื่อ!B44&รายชื่อ!C44 & \"  \" & รายชื่อ!D44)","v":""},null,null,null,null,null,null,null,null,null,null,null,null,null,null,null,null,null,null,null,null,null,null,null,null,null,null,null,null,null,null,null,null,"","","","","","","","","","","","","","","","","","","","","","","","","","","","","","","","","","","","","","","","","","","","",{"$f":"รายชื่อ!E44","v":""}]
[{"$f":"รายชื่อ!A45","v":43},{"$f":"IF(รายชื่อ!C45=\"\",\"\",รายชื่อ!B45&รายชื่อ!C45 & \"  \" & รายชื่อ!D45)","v":""},null,null,null,null,null,null,null,null,null,null,null,null,null,null,null,null,null,null,null,null,null,null,null,null,null,null,null,null,null,null,null,null,"","","","","","","","","","","","","","","","","","","","","","","","","","","","","","","","","","","","","","","","","","","","",{"$f":"รายชื่อ!E45","v":""}]
[{"$f":"รายชื่อ!A46","v":44},{"$f":"IF(รายชื่อ!C46=\"\",\"\",รายชื่อ!B46&รายชื่อ!C46 & \"  \" & รายชื่อ!D46)","v":""},null,null,null,null,null,null,null,null,null,null,null,null,null,null,null,null,null,null,null,null,null,null,null,null,null,null,null,null,null,null,null,null,"","","","","","","","","","","","","","","","","","","","","","","","","","","","","","","","","","","","","","","","","","","","",{"$f":"รายชื่อ!E46","v":""}]
[{"$f":"รายชื่อ!A47","v":45},{"$f":"IF(รายชื่อ!C47=\"\",\"\",รายชื่อ!B47&รายชื่อ!C47 & \"  \" & รายชื่อ!D47)","v":""},null,null,null,null,null,null,null,null,null,null,null,null,null,null,null,null,null,null,null,null,null,null,null,null,null,null,null,null,null,null,null,null,"","","","","","","","","","","","","","","","","","","","","","","","","","","","","","","","","","","","","","","","","","","","",{"$f":"รายชื่อ!E47","v":""}]
[{"$f":"รายชื่อ!A48","v":46},{"$f":"IF(รายชื่อ!C48=\"\",\"\",รายชื่อ!B48&รายชื่อ!C48 & \"  \" & รายชื่อ!D48)","v":""},null,null,null,null,null,null,null,null,null,null,null,null,null,null,null,null,null,null,null,null,null,null,null,null,null,null,null,null,null,null,null,null,"","","","","","","","","","","","","","","","","","","","","","","","","","","","","","","","","","","","","","","","","","","","",{"$f":"รายชื่อ!E48","v":""}]
[{"$f":"รายชื่อ!A49","v":47},{"$f":"IF(รายชื่อ!C49=\"\",\"\",รายชื่อ!B49&รายชื่อ!C49 & \"  \" & รายชื่อ!D49)","v":""},null,null,null,null,null,null,null,null,null,null,null,null,null,null,null,null,null,null,null,null,null,null,null,null,null,null,null,null,null,null,null,null,"","","","","","","","","","","","","","","","","","","","","","","","","","","","","","","","","","","","","","","","","","","","",{"$f":"รายชื่อ!E49","v":""}]
[{"$f":"รายชื่อ!A50","v":48},{"$f":"IF(รายชื่อ!C50=\"\",\"\",รายชื่อ!B50&รายชื่อ!C50 & \"  \" & รายชื่อ!D50)","v":""},null,null,null,null,null,null,null,null,null,null,null,null,null,null,null,null,null,null,null,null,null,null,null,null,null,null,null,null,null,null,null,null,"","","","","","","","","","","","","","","","","","","","","","","","","","","","","","","","","","","","","","","","","","","","",{"$f":"รายชื่อ!E50","v":""}]
[{"$f":"รายชื่อ!A51","v":49},{"$f":"IF(รายชื่อ!C51=\"\",\"\",รายชื่อ!B51&รายชื่อ!C51 & \"  \" & รายชื่อ!D51)","v":""},null,null,null,null,null,null,null,null,null,null,null,null,null,null,null,null,null,null,null,null,null,null,null,null,null,null,null,null,null,null,null,null,"","","","","","","","","","","","","","","","","","","","","","","","","","","","","","","","","","","","","","","","","","","","",{"$f":"รายชื่อ!E51","v":""}]
[{"$f":"รายชื่อ!A52","v":50},{"$f":"IF(รายชื่อ!C52=\"\",\"\",รายชื่อ!B52&รายชื่อ!C52 & \"  \" & รายชื่อ!D52)","v":""},null,null,null,null,null,null,null,null,null,null,null,null,null,null,null,null,null,null,null,null,null,null,null,null,null,null,null,null,null,null,null,null,"","","","","","","","","","","","","","","","","","","","","","","","","","","","","","","","","","","","","","","","","","","","",{"$f":"รายชื่อ!E52","v":""}]
[{"$f":"รายชื่อ!A53","v":51},{"$f":"IF(รายชื่อ!C53=\"\",\"\",รายชื่อ!B53&รายชื่อ!C53 & \"  \" & รายชื่อ!D53)","v":""},null,null,null,null,null,null,null,null,null,null,null,null,null,null,null,null,null,null,null,null,null,null,null,null,null,null,null,null,null,null,null,null,"","","","","","","","","","","","","","","","","","","","","","","","","","","","","","","","","","","","","","","","","","","","",{"$f":"รายชื่อ!E53","v":""}]
[{"$f":"รายชื่อ!A54","v":52},{"$f":"IF(รายชื่อ!C54=\"\",\"\",รายชื่อ!B54&รายชื่อ!C54 & \"  \" & รายชื่อ!D54)","v":""},null,null,null,null,null,null,null,null,null,null,null,null,null,null,null,null,null,null,null,null,null,null,null,null,null,null,null,null,null,null,null,null,"","","","","","","","","","","","","","","","","","","","","","","","","","","","","","","","","","","","","","","","","","","","",{"$f":"รายชื่อ!E54","v":""}]
[{"$f":"รายชื่อ!A55","v":53},{"$f":"IF(รายชื่อ!C55=\"\",\"\",รายชื่อ!B55&รายชื่อ!C55 & \"  \" & รายชื่อ!D55)","v":""},null,null,null,null,null,null,null,null,null,null,null,null,null,null,null,null,null,null,null,null,null,null,null,null,null,null,null,null,null,null,null,null,"","","","","","","","","","","","","","","","","","","","","","","","","","","","","","","","","","","","","","","","","","","","",{"$f":"รายชื่อ!E55","v":""}]
[{"$f":"รายชื่อ!A56","v":54},{"$f":"IF(รายชื่อ!C56=\"\",\"\",รายชื่อ!B56&รายชื่อ!C56 & \"  \" & รายชื่อ!D56)","v":""},null,null,null,null,null,null,null,null,null,null,null,null,null,null,null,null,null,null,null,null,null,null,null,null,null,null,null,null,null,null,null,null,"","","","","","","","","","","","","","","","","","","","","","","","","","","","","","","","","","","","","","","","","","","","",{"$f":"รายชื่อ!E56","v":""}]
[{"$f":"รายชื่อ!A57","v":55},{"$f":"IF(รายชื่อ!C57=\"\",\"\",รายชื่อ!B57&รายชื่อ!C57 & \"  \" & รายชื่อ!D57)","v":""},null,null,null,null,null,null,null,null,null,null,null,null,null,null,null,null,null,null,null,null,null,null,null,null,null,null,null,null,null,null,null,null,"","","","","","","","","","","","","","","","","","","","","","","","","","","","","","","","","","","","","","","","","","","","",{"$f":"รายชื่อ!E57","v":""}]
[{"$f":"รายชื่อ!A58","v":56},{"$f":"IF(รายชื่อ!C58=\"\",\"\",รายชื่อ!B58&รายชื่อ!C58 & \"  \" & รายชื่อ!D58)","v":""},null,null,null,null,null,null,null,null,null,null,null,null,null,null,null,null,null,null,null,null,null,null,null,null,null,null,null,null,null,null,null,null,"","","","","","","","","","","","","","","","","","","","","","","","","","","","","","","","","","","","","","","","","","","","",{"$f":"รายชื่อ!E58","v":""}]
[{"$f":"รายชื่อ!A59","v":57},{"$f":"IF(รายชื่อ!C59=\"\",\"\",รายชื่อ!B59&รายชื่อ!C59 & \"  \" & รายชื่อ!D59)","v":""},null,null,null,null,null,null,null,null,null,null,null,null,null,null,null,null,null,null,null,null,null,null,null,null,null,null,null,null,null,null,null,null,"","","","","","","","","","","","","","","","","","","","","","","","","","","","","","","","","","","","","","","","","","","","",{"$f":"รายชื่อ!E59","v":""}]
[{"$f":"รายชื่อ!A60","v":58},{"$f":"IF(รายชื่อ!C60=\"\",\"\",รายชื่อ!B60&รายชื่อ!C60 & \"  \" & รายชื่อ!D60)","v":""},null,null,null,null,null,null,null,null,null,null,null,null,null,null,null,null,null,null,null,null,null,null,null,null,null,null,null,null,null,null,null,null,"","","","","","","","","","","","","","","","","","","","","","","","","","","","","","","","","","","","","","","","","","","","",{"$f":"รายชื่อ!E60","v":""}]
[{"$f":"รายชื่อ!A61","v":59},{"$f":"IF(รายชื่อ!C61=\"\",\"\",รายชื่อ!B61&รายชื่อ!C61 & \"  \" & รายชื่อ!D61)","v":""},null,null,null,null,null,null,null,null,null,null,null,null,null,null,null,null,null,null,null,null,null,null,null,null,null,null,null,null,null,null,null,null,"","","","","","","","","","","","","","","","","","","","","","","","","","","","","","","","","","","","","","","","","","","","",{"$f":"รายชื่อ!E61","v":""}]
[{"$f":"รายชื่อ!A62","v":60},{"$f":"IF(รายชื่อ!C62=\"\",\"\",รายชื่อ!B62&รายชื่อ!C62 & \"  \" & รายชื่อ!D62)","v":""},null,null,null,null,null,null,null,null,null,null,null,null,null,null,null,null,null,null,null,null,null,null,null,null,null,null,null,null,null,null,null,null,"","","","","","","","","","","","","","","","","","","","","","","","","","","","","","","","","","","","","","","","","","","","",{"$f":"รายชื่อ!E62","v":""}]

{"sheet":"แบบฟอร์มSDQ(ว่าง)","index":5,"n_rows":87,"n_cols":13,"rows_kept":87,"cut":false,"hidden":false,"merged":[[0,0,0,12],[3,1,3,12],[4,1,4,11],[25,2,25,9],[26,2,26,9],[15,2,15,9],[16,2,16,9],[17,2,17,9],[18,2,18,9],[23,2,23,9],[24,2,24,9],[6,2,6,9],[7,2,7,9],[8,2,8,9],[9,2,9,9],[10,2,10,9],[11,2,11,9],[12,2,12,9],[13,2,13,9],[14,2,14,9],[1,2,1,8],[19,2,19,9],[20,2,20,9],[21,2,21,9],[22,2,22,9],[27,2,27,9],[28,2,28,9],[29,2,29,9],[30,2,30,9],[31,2,31,9],[33,1,33,5],[33,6,33,12],[35,10,35,12],[36,10,36,12],[37,10,37,12],[38,10,38,12],[37,1,37,2],[35,1,35,2],[35,3,35,6],[36,1,36,2],[38,1,38,2],[36,3,36,6],[37,3,37,6],[38,3,38,6],[50,1,50,12],[39,10,39,12],[39,1,39,2],[40,1,40,2],[40,10,40,12],[39,3,39,6],[42,1,42,12],[44,1,44,12],[46,3,46,6],[48,3,48,6],[46,8,46,11],[48,8,48,11],[52,1,52,12],[54,1,54,12],[56,3,56,6],[56,8,56,11],[58,3,58,6],[58,8,58,11],[68,7,69,7],[68,8,69,8],[68,9,69,9],[60,1,60,12],[62,3,62,6],[62,8,62,11],[64,3,64,6],[64,8,64,11],[66,1,66,12],[84,7,84,12],[85,7,85,12],[86,7,86,12],[41,0,41,12],[77,3,77,6],[77,8,77,11],[79,1,79,4],[79,8,79,12],[83,8,83,11],[68,10,69,10],[70,1,70,6],[71,1,71,6],[73,1,73,12],[75,3,75,6],[75,8,75,11],[68,1,69,6]]}
["แบบประเมิน SDQ  (ฉบับครูเป็นผู้ประเมินนักเรียน)"]
[null,"ชื่อ-สกุล",null,null,null,null,null,null,null,"ชั้น",null,"เลขที่"]
[]
[null,"ให้ทำเครื่องหมาย P ในช่องให้ครบทุกข้อ กรุณาตอบให้ตรงกับความเป็นจริงที่เกิดขึ้นในช่วง 6 เดือน \n\n"]
[]
[]
[null,"ที่","อารมณ์  ความรู้สึก  พฤติกรรม",null,null,null,null,null,null,null,"ไม่จริง","ค่อนข้างจริง","จริง"]
[null,1,{"$f":"กรอกแบบประเมิน!C8","v":"ห่วงใยความรู้สึกคนอื่น"}]
[null,{"$f":"B8+1","v":2},{"$f":"กรอกแบบประเมิน!C9","v":"อยู่ไม่นิ่ง  นั่งนานๆไม่ได้ "}]
[null,{"$f":"B9+1","v":3},{"$f":"กรอกแบบประเมิน!C10","v":"มักจะบ่นว่าปวดศีรษะ ปวดท้องหรือไม่สบาย "}]
[null,4,{"$f":"กรอกแบบประเมิน!C11","v":"เต็มใจแบ่งปันสิ่งของให้เพื่อน(ขนม  ของเล่น ดินสอ เป็นต้น) "}]
[null,5,{"$f":"กรอกแบบประเมิน!C12","v":"มักจะอาละวาดหรือโมโหร้าย"}]
[null,6,{"$f":"กรอกแบบประเมิน!C13","v":"ค่อนข้างแยกตัว  ชอบเล่นคนเดียว "}]
[null,7,{"$f":"กรอกแบบประเมิน!C14","v":"เชื่อฟัง  มักจะทำตามที่ผู้ใหญ่ต้องการ"}]
[null,8,{"$f":"กรอกแบบประเมิน!C15","v":"กังวลใจหลายเรื่อง  ดูวิตกกังวลเสมอ "}]
[null,9,{"$f":"กรอกแบบประเมิน!C16","v":"เป็นที่พึ่งได้เวลาที่คนอื่นเสียใจ  อารมณ์ไม่ดีหรือไม่สบายใจ"}]
[null,10,{"$f":"กรอกแบบประเมิน!C17","v":"อยู่ไม่สุข วุ่นวายอย่างมาก "}]
[null,11,{"$f":"กรอกแบบประเมิน!C18","v":"มีเพื่อนสนิท"}]
[null,12,{"$f":"กรอกแบบประเมิน!C19","v":"มักมีเรื่องทะเลาะวิวาทกับเด็กอื่นหรือรังแกเด็กอื่น"}]
[null,13,{"$f":"กรอกแบบประเมิน!C20","v":"ดูไม่มีความสุข ท้อแท้  ร้องไห้บ่อย "}]
[null,14,{"$f":"กรอกแบบประเมิน!C21","v":"เป็นที่ชื่นชอบของเพื่อน"}]
[null,15,{"$f":"กรอกแบบประเมิน!C22","v":"วอกแวกง่าย สมาธิสั้น"}]
[null,16,{"$f":"กรอกแบบประเมิน!C23","v":"เครียด  ไม่ยอมห่างเวลาอยู่ในสถานการณ์ที่ไม่คุ้น"}]
[null,17,{"$f":"กรอกแบบประเมิน!C24","v":"ใจดีกับเด็กที่เล็กกว่า"}]
[null,18,{"$f":"กรอกแบบประเมิน!C25","v":"ชอบโกหกหรือขี้โกง"}]
[null,19,{"$f":"กรอกแบบประเมิน!C26","v":"ถูกเด็กคนอื่นล้อเลียนหรือรังแก"}]
[null,20,{"$f":"กรอกแบบประเมิน!C27","v":"ชอบอาสาช่วยเหลือคนอื่น(พ่อ แม่ ครู เด็กคนอื่น)"}]
[null,21,{"$f":"กรอกแบบประเมิน!C28","v":"คิดก่อนทำ"}]
[null,22,{"$f":"กรอกแบบประเมิน!C29","v":"ขโมยของ ของที่บ้าน ที่โรงเรียนหรือที่อื่น"}]
[null,23,{"$f":"กรอกแบบประเมิน!C30","v":"เข้ากับผู้ใหญ่ได้ดีกว่าเด็กวัยเดียวกัน"}]
[null,24,{"$f":"กรอกแบบประเมิน!C31","v":"ขี้กลัว รู้สึกหวาดกลัวได้ง่าย "}]
[null,25,{"$f":"กรอกแบบประเมิน!C32","v":"ทำงานได้จนเสร็จ มีความตั้งใจในการทำงาน "}]
[]
[null,"คุณมีความเห็นหรือความกังวลอื่นอีกหรือไม่"]
[]
[null,"คะแนนด้านที่ 1 ",null,"ด้านอารมณ์ ",null,null,null,null,"คะแนน","แปลผล"]
[null,"คะแนนด้านที่ 2",null,"ด้านความประพฤติ/เกเร",null,null,null,null,"คะแนน","แปลผล"]
[null,"คะแนนด้านที่ 3",null,"ด้านพฤติกรรมไม่อยู่นิ่ง/สมาธิสั้น ",null,null,null,null,"คะแนน","แปลผล"]
[null,"คะแนนด้านที่ 4",null,"ด้านความสัมพันธ์กับเพื่อน",null,null,null,null,"คะแนน","แปลผล"]
[null,null,null,"รวมคะแนนทั้ง 4 ด้าน",null,null,null,null,"คะแนน","แปลผล"]
[null,"คะแนนด้านที่ 5",null,"คะแนนสัมพันธภาพทางสังคม",null,null,null,null,"คะแนน","แปลผล"]
["หน้าที่ 2"]
[null,"โดยรวมคุณคิดว่าเด็กมีปัญหาในด้านใดด้านหนึ่งต่อไปนี้หรือไม่"]
[]
[null,"ด้านอารมณ์  ด้านสมาธิ  ด้านพฤติกรรม หรือความสามารถเข้ากับผู้อื่น "]
[]
[null,null,null,"ไม่ ",null,null,null,null,"ใช่  มีปัญหาเล็กน้อย"]
[]
[null,null,null,"ใช่  มีปัญหาชัดเจน",null,null,null,null,"ใช่  มีปัญหาอย่างมาก"]
[]
[null,"หมายเหตุ ถ้าตอบว่า “ไม่”  ไม่ต้องตอบข้อต่อไป"]
[]
[null,"ถ้าคุณตอบว่า “ใช่”  กรุณาตอบข้อต่อไปนี้ "]
[]
[null,"ปัญหานี้เกิดขึ้นมานานเท่าไหร่แล้ว"]
[]
[null,null,null,"น้อยกว่า  1 เดือน",null,null,null,null,"1 - 5  เดือน"]
[]
[null,null,null,"6 - 12  เดือน",null,null,null,null,"มากกว่า  1  ปี"]
[]
[null,"ปัญหานี้ทำให้เด็กรู้สึกไม่สบายใจหรือไม่ "]
[]
[null,null,null,"ไม่เลย",null,null,null,null,"เล็กน้อย"]
[]
[null,null,null,"ค่อนข้างมาก",null,null,null,null,"มาก"]
[]
[null,"ปัญหานี้รบกวนชีวิตประจำวันของเด็กในด้านต่างๆต่อไปนี้หรือไม่"]
[]
[null,"ด้าน",null,null,null,null,null,"ไม่เลย","เล็กน้อย","ค่อนข้างมาก","มาก"]
[]
[null," การคบเพื่อน "]
[null," การเรียนในห้องเรียน"]
[]
[null,"ปัญหาของเด็กทำให้คุณหรือชั้นเรียนเกิดความยุ่งยากหรือไม่"]
[]
[null,null,null,"ไม่เลย",null,null,null,null,"เล็กน้อย"]
[]
[null,null,null,"ค่อนข้างมาก",null,null,null,null,"มาก"]
[]
[null," คะแนนรวมแบบประเมินด้านหลัง ",null,null,null,null,"คะแนน","แปลผล"]
[]
[]
[]
[null,null,null,null,null,null,null,"ลงชื่อ"]
[null,null,null,null,null,null,null,{"$f":"\"(…………………...…………………………………………..)\"","v":"(…………………...…………………………………………..)"}]
[null,null,null,null,null,null,null,"ครูประจำชั้น/ครูที่ปรึกษา/อื่นๆ…………………………………."]
[null,null,null,null,null,null,null,"วันที่ ………………………………………………….……"]

{"sheet":"01-ปก","index":6,"n_rows":33,"n_cols":1,"rows_kept":33,"cut":false,"hidden":false,"merged":[[32,0,33,12],[34,0,35,12],[26,0,27,12],[28,0,29,12],[30,0,31,12],[20,0,21,12],[22,0,23,12],[24,0,25,12],[14,0,15,12],[16,0,17,12],[18,0,19,12],[8,0,9,12],[10,0,11,12],[12,0,13,12]]}
[]
[]
[]
[]
[]
[]
[]
[]
["แบบประเมินพฤติกรรมเด็ก (SDQ)"]
[]
["(ฉบับครูเป็นผู้ประเมินนักเรียน)"]
[]
[{"$f":"\"ชั้น\" & ตั้งค่า!C10","v":"ชั้นประถมศึกษาปีที่ 6/1"}]
[]
[{"$f":"\"ปีการศึกษา \" & ตั้งค่า!C11","v":"ปีการศึกษา 2560"}]
[]
[]
[]
[]
[]
[{"$f":"ตั้งค่า!C18","v":"นายบุญธรรม  บุญลาภังค์"}]
[]
[{"$f":"ตั้งค่า!C19","v":"ครูประจำชั้น"}]
[]
[]
[]
[]
[]
[{"$f":"\"โรงเรียน\" & ตั้งค่า!C12","v":"โรงเรียนบ้านน้ำสอด"}]
[]
[{"$f":"\"ตำบล\" & ตั้งค่า!C13 & \" อำเภอ\" & ตั้งค่า!C14 & \" จังหวัด\" & ตั้งค่า!C15","v":"ตำบลและ อำเภอทุ่งช้าง จังหวัดน่าน"}]
[]
[{"$f":"ตั้งค่า!B16&ตั้งค่า!C16","v":"สำนักงานเขตพื้นที่การศึกษาประถมศึกษาน่าน เขต 2"}]

{"sheet":"02-ผลการประเมินรายบุคคล","index":7,"n_rows":87,"n_cols":15,"rows_kept":87,"cut":false,"hidden":false,"merged":[[13,2,13,9],[0,0,0,12],[1,2,1,8],[3,1,3,12],[4,1,4,11],[6,2,6,9],[7,2,7,9],[8,2,8,9],[9,2,9,9],[10,2,10,9],[11,2,11,9],[12,2,12,9],[25,2,25,9],[14,2,14,9],[15,2,15,9],[16,2,16,9],[17,2,17,9],[18,2,18,9],[19,2,19,9],[20,2,20,9],[21,2,21,9],[22,2,22,9],[23,2,23,9],[24,2,24,9],[36,1,36,2],[36,3,36,6],[36,10,36,12],[26,2,26,9],[27,2,27,9],[28,2,28,9],[29,2,29,9],[30,2,30,9],[31,2,31,9],[33,1,33,5],[33,6,33,12],[35,1,35,2],[35,3,35,6],[35,10,35,12],[41,0,41,12],[37,1,37,2],[37,3,37,6],[37,10,37,12],[38,1,38,2],[38,3,38,6],[38,10,38,12],[39,1,39,2],[39,3,39,6],[39,10,39,12],[40,1,40,2],[40,10,40,12],[42,1,42,12],[44,1,44,12],[46,3,46,6],[46,8,46,11],[48,3,48,6],[48,8,48,11],[66,1,66,12],[50,1,50,12],[52,1,52,12],[54,1,54,12],[56,3,56,6],[56,8,56,11],[58,3,58,6],[58,8,58,11],[84,7,84,12],[85,7,85,12],[86,7,86,12],[71,1,71,6],[73,1,73,12],[75,3,75,6],[75,8,75,11],[77,3,77,6],[77,8,77,11],[8,13,8,16],[10,13,10,16],[79,1,79,4],[79,8,79,12],[83,8,83,11],[68,1,69,6],[68,7,69,7],[68,8,69,8],[68,9,69,9],[68,10,69,10],[70,1,70,6],[60,1,60,12],[62,3,62,6],[62,8,62,11],[64,3,64,6],[64,8,64,11]]}
["แบบประเมิน SDQ  (ฉบับครูเป็นผู้ประเมินนักเรียน)"]
[null,"ชื่อ-สกุล","เด็กชายวิทวัส  แซ่ท้าว",null,null,null,null,null,null,"ชั้น",{"$f":"ตั้งค่า!C9","v":"ป.6/1"},"เลขที่",1]
[]
[null,"ให้ทำเครื่องหมาย P ในช่องให้ครบทุกข้อ กรุณาตอบให้ตรงกับความเป็นจริงที่เกิดขึ้นในช่วง 6 เดือน \n\n",null,null,null,null,null,null,null,null,null,null,null,"เลขที่",1]
[]
[]
[null,"ที่","อารมณ์  ความรู้สึก  พฤติกรรม",null,null,null,null,null,null,null,"ไม่จริง","ค่อนข้างจริง","จริง"]
[null,1,{"$f":"กรอกแบบประเมิน!C8","v":"ห่วงใยความรู้สึกคนอื่น"},null,null,null,null,null,null,null,null,null,"P"]
[null,{"$f":"B8+1","v":2},{"$f":"กรอกแบบประเมิน!C9","v":"อยู่ไม่นิ่ง  นั่งนานๆไม่ได้ "},null,null,null,null,null,null,null,"P",null,null,"พิมพ์แบบช่วงข้อมูล"]
[null,{"$f":"B9+1","v":3},{"$f":"กรอกแบบประเมิน!C10","v":"มักจะบ่นว่าปวดศีรษะ ปวดท้องหรือไม่สบาย "},null,null,null,null,null,null,null,"P",null,null,"เริ่มต้น",1]
[null,4,{"$f":"กรอกแบบประเมิน!C11","v":"เต็มใจแบ่งปันสิ่งของให้เพื่อน(ขนม  ของเล่น ดินสอ เป็นต้น) "},null,null,null,null,null,null,null,null,"P"]
[null,5,{"$f":"กรอกแบบประเมิน!C12","v":"มักจะอาละวาดหรือโมโหร้าย"},null,null,null,null,null,null,null,"P",null,null,"สิ้นสุด",2]
[null,6,{"$f":"กรอกแบบประเมิน!C13","v":"ค่อนข้างแยกตัว  ชอบเล่นคนเดียว "},null,null,null,null,null,null,null,"P"]
[null,7,{"$f":"กรอกแบบประเมิน!C14","v":"เชื่อฟัง  มักจะทำตามที่ผู้ใหญ่ต้องการ"},null,null,null,null,null,null,null,null,"P"]
[null,8,{"$f":"กรอกแบบประเมิน!C15","v":"กังวลใจหลายเรื่อง  ดูวิตกกังวลเสมอ "},null,null,null,null,null,null,null,null,"P"]
[null,9,{"$f":"กรอกแบบประเมิน!C16","v":"เป็นที่พึ่งได้เวลาที่คนอื่นเสียใจ  อารมณ์ไม่ดีหรือไม่สบายใจ"},null,null,null,null,null,null,null,null,null,"P"]
[null,10,{"$f":"กรอกแบบประเมิน!C17","v":"อยู่ไม่สุข วุ่นวายอย่างมาก "},null,null,null,null,null,null,null,"P"]
[null,11,{"$f":"กรอกแบบประเมิน!C18","v":"มีเพื่อนสนิท"},null,null,null,null,null,null,null,null,null,"P"]
[null,12,{"$f":"กรอกแบบประเมิน!C19","v":"มักมีเรื่องทะเลาะวิวาทกับเด็กอื่นหรือรังแกเด็กอื่น"},null,null,null,null,null,null,null,"P"]
[null,13,{"$f":"กรอกแบบประเมิน!C20","v":"ดูไม่มีความสุข ท้อแท้  ร้องไห้บ่อย "},null,null,null,null,null,null,null,"P"]
[null,14,{"$f":"กรอกแบบประเมิน!C21","v":"เป็นที่ชื่นชอบของเพื่อน"},null,null,null,null,null,null,null,null,null,"P"]
[null,15,{"$f":"กรอกแบบประเมิน!C22","v":"วอกแวกง่าย สมาธิสั้น"},null,null,null,null,null,null,null,"P"]
[null,16,{"$f":"กรอกแบบประเมิน!C23","v":"เครียด  ไม่ยอมห่างเวลาอยู่ในสถานการณ์ที่ไม่คุ้น"},null,null,null,null,null,null,null,null,"P"]
[null,17,{"$f":"กรอกแบบประเมิน!C24","v":"ใจดีกับเด็กที่เล็กกว่า"},null,null,null,null,null,null,null,null,null,"P"]
[null,18,{"$f":"กรอกแบบประเมิน!C25","v":"ชอบโกหกหรือขี้โกง"},null,null,null,null,null,null,null,"P"]
[null,19,{"$f":"กรอกแบบประเมิน!C26","v":"ถูกเด็กคนอื่นล้อเลียนหรือรังแก"},null,null,null,null,null,null,null,"P"]
[null,20,{"$f":"กรอกแบบประเมิน!C27","v":"ชอบอาสาช่วยเหลือคนอื่น(พ่อ แม่ ครู เด็กคนอื่น)"},null,null,null,null,null,null,null,null,null,"P"]
[null,21,{"$f":"กรอกแบบประเมิน!C28","v":"คิดก่อนทำ"},null,null,null,null,null,null,null,null,"P"]
[null,22,{"$f":"กรอกแบบประเมิน!C29","v":"ขโมยของ ของที่บ้าน ที่โรงเรียนหรือที่อื่น"},null,null,null,null,null,null,null,"P"]
[null,23,{"$f":"กรอกแบบประเมิน!C30","v":"เข้ากับผู้ใหญ่ได้ดีกว่าเด็กวัยเดียวกัน"},null,null,null,null,null,null,null,"P"]
[null,24,{"$f":"กรอกแบบประเมิน!C31","v":"ขี้กลัว รู้สึกหวาดกลัวได้ง่าย "},null,null,null,null,null,null,null,"P"]
[null,25,{"$f":"กรอกแบบประเมิน!C32","v":"ทำงานได้จนเสร็จ มีความตั้งใจในการทำงาน "},null,null,null,null,null,null,null,null,null,"P"]
[]
[null,"คุณมีความเห็นหรือความกังวลอื่นอีกหรือไม่",null,null,null,null,"ไม่มีความกังวล"]
[]
[null,"คะแนนด้านที่ 1 ",null,"ด้านอารมณ์ ",null,null,null,2,"คะแนน","แปลผล","ปกติ"]
[null,"คะแนนด้านที่ 2",null,"ด้านความประพฤติ/เกเร",null,null,null,1,"คะแนน","แปลผล","ปกติ"]
[null,"คะแนนด้านที่ 3",null,"ด้านพฤติกรรมไม่อยู่นิ่ง/สมาธิสั้น ",null,null,null,1,"คะแนน","แปลผล","ปกติ"]
[null,"คะแนนด้านที่ 4",null,"ด้านความสัมพันธ์กับเพื่อน",null,null,null,0,"คะแนน","แปลผล","ปกติ"]
[null,null,null,"รวมคะแนนทั้ง 4 ด้าน",null,null,null,4,"คะแนน","แปลผล","ปกติ"]
[null,"คะแนนด้านที่ 5",null,"คะแนนสัมพันธภาพทางสังคม",null,null,null,9,"คะแนน","แปลผล","ปกติ,มีจุดแข็ง"]
["หน้าที่ 2"]
[null,"โดยรวมคุณคิดว่าเด็กมีปัญหาในด้านใดด้านหนึ่งต่อไปนี้หรือไม่"]
[]
[null,"ด้านอารมณ์  ด้านสมาธิ  ด้านพฤติกรรม หรือความสามารถเข้ากับผู้อื่น "]
[]
[null,null,null,"ไม่ ",null,null,null,"P","ใช่  มีปัญหาเล็กน้อย"]
[]
[null,null,null,"ใช่  มีปัญหาชัดเจน",null,null,null,null,"ใช่  มีปัญหาอย่างมาก"]
[]
[null,"หมายเหตุ ถ้าตอบว่า “ไม่”  ไม่ต้องตอบข้อต่อไป"]
[]
[null,"ถ้าคุณตอบว่า “ใช่”  กรุณาตอบข้อต่อไปนี้ "]
[]
[null,"ปัญหานี้เกิดขึ้นมานานเท่าไหร่แล้ว"]
[]
[null,null,null,"น้อยกว่า  1 เดือน",null,null,null,"P","1 - 5  เดือน"]
[]
[null,null,null,"6 - 12  เดือน",null,null,null,null,"มากกว่า  1  ปี"]
[]
[null,"ปัญหานี้ทำให้เด็กรู้สึกไม่สบายใจหรือไม่ "]
[]
[null,null,null,"ไม่เลย",null,null,null,null,"เล็กน้อย"]
[]
[null,null,"P","ค่อนข้างมาก",null,null,null,null,"มาก"]
[]
[null,"ปัญหานี้รบกวนชีวิตประจำวันของเด็กในด้านต่างๆต่อไปนี้หรือไม่"]
[]
[null,"ด้าน",null,null,null,null,null,"ไม่เลย","เล็กน้อย","ค่อนข้างมาก","มาก"]
[]
[null," การคบเพื่อน ",null,null,null,null,null,null,"P"]
[null," การเรียนในห้องเรียน",null,null,null,null,null,null,null,"P"]
[]
[null,"ปัญหาของเด็กทำให้คุณหรือชั้นเรียนเกิดความยุ่งยากหรือไม่"]
[]
[null,null,null,"ไม่เลย",null,null,null,null,"เล็กน้อย"]
[]
[null,null,"P","ค่อนข้างมาก",null,null,null,null,"มาก"]
[]
[null," คะแนนรวมแบบประเมินด้านหลัง ",null,null,null,2,"คะแนน","แปลผล","เสี่ยง"]
[]
[]
[]
[null,null,null,null,null,null,null,"ลงชื่อ"]
[null,null,null,null,null,null,null,{"$f":"\"(\" & ตั้งค่า!C18 & \")\"","v":"(นายบุญธรรม  บุญลาภังค์)"}]
[null,null,null,null,null,null,null,{"$f":" ตั้งค่า!C19","v":"ครูประจำชั้น"}]
[null,null,null,null,null,null,null,{"$f":"ตั้งค่า!C17","v":"2560-08-16"}]

{"sheet":"03-สรุปผลประเมินรายชั้น","index":8,"n_rows":38,"n_cols":17,"rows_kept":38,"cut":false,"hidden":false,"merged":[[36,8,36,9],[36,10,36,11],[36,13,36,14],[37,8,37,9],[37,10,37,11],[37,13,37,14],[33,8,33,9],[33,13,33,14],[34,8,34,9],[34,13,34,14],[35,8,35,9],[35,13,35,14],[33,10,33,11],[34,10,34,11],[35,10,35,11],[30,8,30,9],[30,13,30,14],[31,8,31,9],[31,13,31,14],[32,8,32,9],[32,13,32,14],[27,8,27,9],[27,13,27,14],[28,8,28,9],[28,13,28,14],[29,8,29,9],[29,13,29,14],[32,10,32,11],[27,10,27,11],[28,10,28,11],[29,10,29,11],[30,10,30,11],[31,10,31,11],[25,8,25,9],[25,10,25,11],[25,13,25,14],[26,8,26,9],[26,13,26,14],[23,8,23,9],[23,10,23,11],[23,13,23,14],[24,8,24,9],[24,10,24,11],[24,13,24,14],[26,10,26,11],[20,8,20,9],[20,13,20,14],[21,8,21,9],[21,13,21,14],[22,8,22,9],[22,13,22,14],[17,8,17,9],[17,13,17,14],[18,8,18,9],[18,13,18,14],[19,8,19,9],[19,13,19,14],[17,10,17,11],[18,10,18,11],[19,10,19,11],[20,10,20,11],[21,10,21,11],[22,10,22,11],[14,8,14,9],[14,13,14,14],[15,8,15,9],[15,13,15,14],[16,8,16,9],[16,13,16,14],[11,8,11,9],[11,13,11,14],[12,8,12,9],[12,13,12,14],[13,8,13,9],[13,13,13,14],[12,10,12,11],[13,10,13,11],[14,10,14,11],[15,10,15,11],[16,10,16,11],[10,8,10,9],[10,13,10,14],[5,1,5,5],[5,8,5,14],[6,8,7,9],[6,10,7,11],[6,12,7,12],[6,13,7,14],[6,3,7,3],[6,4,7,4],[6,5,7,5],[5,6,7,6],[5,7,7,7],[6,1,7,1],[6,2,7,2],[1,0,1,1],[1,8,1,10],[1,11,1,14],[0,0,0,14],[1,2,1,7],[8,10,8,11],[9,10,9,11],[10,10,10,11],[11,10,11,11],[5,0,7,0],[2,12,2,14],[3,0,3,1],[3,7,3,8],[3,9,3,14],[2,5,2,6],[2,10,2,11],[2,2,2,4],[2,7,2,9],[2,0,2,1],[3,2,3,4],[8,8,8,9],[8,13,8,14],[9,8,9,9],[9,13,9,14]]}
["สรุปผลการประเมิน SDQ  (ฉบับครูเป็นผู้ประเมินนักเรียน)"]
["โรงเรียน",null,{"$f":"ตั้งค่า!C12","v":"บ้านน้ำสอด"},null,null,null,null,null,"สำนักงานเขตพื่นที่",null,null,{"$f":"ตั้งค่า!C16","v":"ประถมศึกษาน่าน เขต 2"}]
["ตำบล",null,{"$f":"ตั้งค่า!C13","v":"และ"},null,null,"อำเภอ",null,{"$f":"ตั้งค่า!C14","v":"ทุ่งช้าง"},null,null,"จังหวัด",null,{"$f":"ตั้งค่า!C15","v":"น่าน"}]
["ประเมินวันที่",null,{"$f":"ตั้งค่า!C17","v":"2560-08-16"},null,null,"ชั้น",{"$f":"ตั้งค่า!C9","v":"ป.6/1"},"ผู้ประเมิน",null,{"$f":"ตั้งค่า!C18","v":"นายบุญธรรม  บุญลาภังค์"},null,null,null,null,null,"เลขที่","1 - 30"]
[]
["เลขที่","คะแนนด้านที่",null,null,null,null,"ผลรวมด้านที่ 1 -4","คะแนนด้าน หลัง","การแปรผล"]
[null,1,2,3,4,5,null,null,"ด้านที่ 1 - 4",null,"ผลการประเมินด้านหลัง",null,"มีจุดแข็ง","สรุปผลการประเมิน"]
[]
[1,2,1,1,0,9,4,2,"ปกติ",null,"เสี่ยง",null,"P","เสี่ยง"]
[2,1,1,5,1,6,8,0,"ปกติ",null,"ปกติ",null,"P","ปกติ"]
[3,6,0,5,2,8,13,1,"ปกติ",null,"เสี่ยง",null,"P","เสี่ยง"]
[4,0,0,0,0,0,0,0,"ปกติ",null,"ปกติ",null,null,"ปกติ"]
[5,0,0,0,0,0,0,0,"ปกติ",null,"ปกติ",null,null,"ปกติ"]
[6,0,0,0,0,0,0,0,"ปกติ",null,"ปกติ",null,null,"ปกติ"]
[7,0,0,0,0,0,0,0,"ปกติ",null,"ปกติ",null,null,"ปกติ"]
[8,0,0,0,0,0,0,0,"ปกติ",null,"ปกติ",null,null,"ปกติ"]
[9,"","","","","","","","",null,"",null,null,""]
[10,"","","","","","","","",null,"",null,null,""]
[11,"","","","","","","","",null,"",null,null,""]
[12,"","","","","","","","",null,"",null,null,""]
[13,"","","","","","","","",null,"",null,null,""]
[14,"","","","","","","","",null,"",null,null,""]
[15,"","","","","","","","",null,"",null,null,""]
[16,"","","","","","","","",null,"",null,null,""]
[17,"","","","","","","","",null,"",null,null,""]
[18,"","","","","","","","",null,"",null,null,""]
[19,"","","","","","","","",null,"",null,null,""]
[20,"","","","","","","","",null,"",null,null,""]
[21,"","","","","","","","",null,"",null,null,""]
[22,"","","","","","","","",null,"",null,null,""]
[23,"","","","","","","","",null,"",null,null,""]
[24,"","","","","","","","",null,"",null,null,""]
[25,"","","","","","","","",null,"",null,null,""]
[26,"","","","","","","","",null,"",null,null,""]
[27,"","","","","","","","",null,"",null,null,""]
[28,"","","","","","","","",null,"",null,null,""]
[29,"","","","","","","","",null,"",null,null,""]
[30,"","","","","","","","",null,"",null,null,""]

{"sheet":"04-สรุปผลทั้งหมด","index":9,"n_rows":25,"n_cols":15,"rows_kept":25,"cut":false,"hidden":false,"merged":[[0,0,0,14],[1,0,1,1],[1,2,1,7],[1,8,1,10],[1,11,1,14],[2,12,2,14],[3,0,3,1],[3,2,3,4],[3,7,3,8],[3,9,3,14],[2,0,2,1],[2,2,2,4],[2,5,2,6],[2,7,2,9],[2,10,2,11],[6,9,6,10],[7,2,7,3],[7,4,7,5],[24,0,24,14],[10,0,10,14],[6,11,6,12],[6,13,6,14],[6,0,7,1],[7,6,7,7],[6,2,6,7],[8,2,8,3],[8,4,8,5],[8,6,8,7],[8,0,8,1],[6,8,7,8]]}
["สรุปผลการประเมิน SDQ  (ฉบับครูเป็นผู้ประเมินนักเรียน)"]
["โรงเรียน",null,{"$f":"ตั้งค่า!C12","v":"บ้านน้ำสอด"},null,null,null,null,null,"สำนักงานเขตพื่นที่",null,null,{"$f":"ตั้งค่า!C16","v":"ประถมศึกษาน่าน เขต 2"}]
["ตำบล",null,{"$f":"ตั้งค่า!C13","v":"และ"},null,null,"อำเภอ",null,{"$f":"ตั้งค่า!C14","v":"ทุ่งช้าง"},null,null,"จังหวัด",null,{"$f":"ตั้งค่า!C15","v":"น่าน"}]
["ประเมินวันที่",null,{"$f":"ตั้งค่า!C17","v":"2560-08-16"},null,null,"ชั้น",{"$f":"ตั้งค่า!C9","v":"ป.6/1"},"ผู้ประเมิน",null,{"$f":"ตั้งค่า!C18","v":"นายบุญธรรม  บุญลาภังค์"}]
[]
[]
["จำนวนนักเรียนทั้งหมด",null,"จำนวนนักเรียนในแต่ละกลุ่ม",null,null,null,null,null,"มีจุดแข็ง","ปกติ",null,"เสี่ยง",null,"มีปัญหา"]
[null,null,"ปกติ",null,"เสี่ยง",null,"มีปัญหา",null,null,"ชาย","หญิง","ชาย","หญิง","ชาย","หญิง"]
[{"$f":"COUNTA(รายชื่อ!C3:C62)","v":8},null,{"$f":"COUNTIF(การแปรผล!BZ3:BZ62,\"ปกติ\")","v":6},null,{"$f":"COUNTIF(การแปรผล!BZ3:BZ62,\"เสี่ยง\")","v":2},null,{"$f":"COUNTIF(การแปรผล!BZ3:BZ62,\"มีปัญหา\")","v":0},null,{"$f":"COUNTIF(การแปรผล!BT3:BT62,\"มีจุดแข็ง\")","v":3},{"$f":"COUNTIFS(การแปรผล!BZ3:BZ62,\"ปกติ\",การแปรผล!CA3:CA62,\"ชาย\")","v":1},{"$f":"COUNTIFS(การแปรผล!BZ3:BZ62,\"ปกติ\",การแปรผล!CA3:CA62,\"หญิง\")","v":5},{"$f":"COUNTIFS(การแปรผล!BZ3:BZ62,\"เสี่ยง\",การแปรผล!CA3:CA62,\"ชาย\")","v":1},{"$f":"COUNTIFS(การแปรผล!BZ3:BZ62,\"เสี่ยง\",การแปรผล!CA3:CA62,\"หญิง\")","v":1},{"$f":"COUNTIFS(การแปรผล!BZ3:BZ62,\"มีปัญหา\",การแปรผล!CA3:CA62,\"ชาย\")","v":0},{"$f":"COUNTIFS(การแปรผล!BZ3:BZ62,\"มีปัญหา\",การแปรผล!CA3:CA62,\"หญิง\")","v":0}]
[]
[{"$f":"\"แผนภูมิแสดงผลการประเมิน SDQ ฉบับครูเป็นผู้ประเมินนักเรียน ชั้น \" & G4","v":"แผนภูมิแสดงผลการประเมิน SDQ ฉบับครูเป็นผู้ประเมินนักเรียน ชั้น ป.6/1"}]
[]
[]
[]
[]
[]
[]
[]
[]
[]
[]
[]
[]
[]
[{"$f":"\"แผนภูมิแสดงผลการประเมิน SDQ ฉบับครูเป็นผู้ประเมินนักเรียน ชั้น \" & G4 & \" (แยกตามเพศ)\"","v":"แผนภูมิแสดงผลการประเมิน SDQ ฉบับครูเป็นผู้ประเมินนักเรียน ชั้น ป.6/1 (แยกตามเพศ)"}]