{"text_format":"1","workbook":"xlsx","n_sheets":12,"sheets":["List","ตั้งค่า","รายชื่อ","กรอกแบบประเมิน","คะแนนประเมิน","คำตอบของนักเรียน","ตารางคะแนนที","01-แบบประเมินรายบุคคล","02-สรุปผลประเมินรายบุคคล","คะแนนที","คะแนนที2","03-สรุปผลประเมินรายชั้น"],"not_rendered":{"charts":0,"images":3,"macros":1,"external_links":0,"defined_names":4,"comments":0,"pivot_tables":0},"unopened":[],"bounds":{"document_bytes":16777216,"sheet_cells":100000,"rows_first":2000,"rows_last":500,"rows_between":2000,"halvings":0,"cell_chars":16384,"cell_head_chars":4096},"cells_cut":0,"cells_raw":0,"read":"whole","date_system":"1900"}

{"sheet":"List","index":0,"n_rows":60,"n_cols":5,"rows_kept":60,"cut":false,"hidden":true,"merged":[]}
["คำนำหน้า","คำตอบ",null,1]
["เด็กชาย","ไม่เป็นเลย",0,{"$f":"D1+1","v":2},"1 - 30"]
["เด็กหญิง","เป็นบางครั้ง",1,{"$f":"D2+1","v":3},"31 - 60"]
[null,"เป็นบ่อยครั้ง",2,4]
[null,"เป็นประจำ",3,5]
[null,null,null,6]
[null,null,null,7]
[null,null,null,8]
[null,null,null,9]
[null,null,null,10]
[null,null,null,11]
[null,null,null,12]
[null,null,null,13]
[null,null,null,14]
[null,null,null,15]
[null,null,null,16]
[null,null,null,17]
[null,null,null,18]
[null,null,null,19]
[null,null,null,20]
[null,null,null,21]
[null,null,null,22]
[null,null,null,23]
[null,null,null,24]
[null,null,null,25]
[null,null,null,26]
[null,null,null,27]
[null,null,null,28]
[null,null,null,29]
[null,null,null,30]
[null,null,null,31]
[null,null,null,32]
[null,null,null,33]
[null,null,null,34]
[null,null,null,35]
[null,null,null,36]
[null,null,null,37]
[null,null,null,38]
[null,null,null,39]
[null,null,null,40]
[null,null,null,41]
[null,null,null,42]
[null,null,null,43]
[null,null,null,44]
[null,null,null,45]
[null,null,null,46]
[null,null,null,47]
[null,null,null,48]
[null,null,null,49]
[null,null,null,50]
[null,null,null,51]
[null,null,null,52]
[null,null,null,53]
[null,null,null,54]
[null,null,null,55]
[null,null,null,56]
[null,null,null,57]
[null,null,null,58]
[null,null,null,59]
[null,null,null,60]

{"sheet":"ตั้งค่า","index":1,"n_rows":17,"n_cols":3,"rows_kept":17,"cut":false,"hidden":false,"merged":[[6,0,6,5],[18,1,18,2]]}
[]
[]
[]
[]
[]
[]
["แบบประเมินความฉลาดทางอารมณ์ (EQ) (อายุ 6 – 11 ปี )  มีแมโคร จำนวนนักเรียนสูงสุด 60 คน"]
[]
[null,"ชั้น","5/1"]
[null,"ปีการศึกษา",2559]
[null,"โรงเรียน","บ้านน้ำสอด"]
[null,"ตำบล/แขวง","และ"]
[null,"อำเภอ/เขต","ทุ่งช้าง"]
[null,"จังหวัด","น่าน"]
[null,"สำนักงานเขตพื้นที่การศึกษา","ประถมศึกษาน่าน เขต 2"]
[null,"ประเมินวันที่","2560-03-16"]
[null,"ผู้ประเมิน","นายบุญธรรม  บุญลาภังค์"]

{"sheet":"รายชื่อ","index":2,"n_rows":62,"n_cols":5,"rows_kept":62,"cut":false,"hidden":false,"merged":[[0,4,1,4],[0,0,1,0],[0,1,1,1],[0,2,1,2],[0,3,1,3]]}
["เลขที่","คำนำหน้า","ชื่อ","นามสกุล","เพศ"]
[]
[1,"เด็กชาย","วิทวัส","แซ่ท้าว",{"$f":"IF(B3=\"\",\"\",IF(B3=\"เด็กชาย\",\"ชาย\",\"หญิง\"))","v":"ชาย"}]
[{"$f":"A3+1","v":2},"เด็กชาย","สาธิต","แซ่ท้าว",{"$f":"IF(B4=\"\",\"\",IF(B4=\"เด็กชาย\",\"ชาย\",\"หญิง\"))","v":"ชาย"}]
[{"$f":"A4+1","v":3},"เด็กหญิง","ภณิดา","ปทุมไพโรจน์","หญิง"]
[4,"เด็กหญิง","รุ่งทิพย์","ภูริบริรักษ์","หญิง"]
[5,"เด็กหญิง","ปวริสา   ","แซ่ท้าว","หญิง"]
[6,"เด็กหญิง","ดวงรัตน์","แซ่ท้าว","หญิง"]
[7,"เด็กหญิง","วีนัส","แซ่ท้าว","หญิง"]
[8,"เด็กหญิง","มรกต","แซ่ท้าว","หญิง"]
[9,null,null,null,""]
[10,null,null,null,""]
[11,null,null,null,""]
[12,null,null,null,""]
[13,null,null,null,""]
[14,null,null,null,""]
[15,null,null,null,""]
[16,null,null,null,""]
[17,null,null,null,""]
[18,null,null,null,""]
[19,null,null,null,""]
[20,null,null,null,""]
[21,null,null,null,""]
[22,null,null,null,""]
[23,null,null,null,""]
[24,null,null,null,""]
[25,null,null,null,""]
[26,null,null,null,""]
[27,null,null,null,""]
[28,null,null,null,""]
[29,null,null,null,""]
[30,null,null,null,""]
[31,null,null,null,""]
[32,null,null,null,""]
[33,null,null,null,""]
[34,null,null,null,""]
[35,null,null,null,""]
[36,null,null,null,""]
[37,null,null,null,""]
[38,null,null,null,""]
[39,null,null,null,""]
[40,null,null,null,""]
[41,null,null,null,""]
[42,null,null,null,""]
[43,null,null,null,""]
[44,null,null,null,""]
[45,null,null,null,""]
[46,null,null,null,""]
[47,null,null,null,""]
[48,null,null,null,""]
[49,null,null,null,""]
[50,null,null,null,""]
[51,null,null,null,""]
[52,null,null,null,""]
[53,null,null,null,""]
[54,null,null,null,""]
[55,null,null,null,""]
[56,null,null,null,""]
[57,null,null,null,""]
[58,null,null,null,""]
[59,null,null,null,""]
[60,null,null,null,""]

{"sheet":"กรอกแบบประเมิน","index":3,"n_rows":67,"n_cols":9,"rows_kept":67,"cut":false,"hidden":false,"merged":[[63,2,63,4],[64,2,64,4],[65,2,65,4],[66,2,66,4],[58,2,58,4],[59,2,59,4],[60,2,60,4],[61,2,61,4],[62,2,62,4],[53,2,53,4],[54,2,54,4],[55,2,55,4],[56,2,56,4],[57,2,57,4],[48,2,48,4],[49,2,49,4],[50,2,50,4],[51,2,51,4],[52,2,52,4],[43,2,43,4],[44,2,44,4],[45,2,45,4],[46,2,46,4],[47,2,47,4],[38,2,38,4],[39,2,39,4],[40,2,40,4],[41,2,41,4],[42,2,42,4],[33,2,33,4],[34,2,34,4],[35,2,35,4],[36,2,36,4],[37,2,37,4],[28,2,28,4],[29,2,29,4],[30,2,30,4],[31,2,31,4],[32,2,32,4],[23,2,23,4],[24,2,24,4],[25,2,25,4],[26,2,26,4],[27,2,27,4],[18,2,18,4],[19,2,19,4],[20,2,20,4],[21,2,21,4],[22,2,22,4],[66,7,66,10],[0,0,0,6],[6,2,6,4],[3,1,3,5],[4,1,4,5],[7,2,7,4],[8,2,8,4],[9,2,9,4],[10,2,10,4],[11,2,11,4],[12,2,12,4],[13,2,13,4],[14,2,14,4],[15,2,15,4],[16,2,16,4],[17,2,17,4]]}
["แบบประเมินความฉลาดทางอารมณ์ (EQ) อายุ 6 – 11 ปี "]
[null,"ชื่อ-สกุล","เด็กชายสาธิต  แซ่ท้าว","ชั้น",{"$f":"ตั้งค่า!C9","v":"5/1"},"เลขที่",2]
[]
[null,"    ข้อความต่อไปนี้เป็นการอธิบายถึงอารมณ์  ความรู้สึกและพฤติกรรมของเด็กในช่วง  4  เดือน  ที่ผ่านมา\n\n",null,null,null,null,null,"เลขที่",2]
[null,"โปรดเลือกคำตอบที่ท่านเห็นว่าตรงกับเด็กมากที่สุด"]
[]
[null,"ที่","อารมณ์  ความรู้สึก  พฤติกรรม",null,null,"คำตอบ"]
[null,1,"ไม่ใช้กำลังเวลาโกรธหรือไม่พอใจ",null,null,"เป็นบางครั้ง",{"$f":"IF(F8=\"\",\"\",IF(F8=\"ไม่เป็นเลย\",1,IF(F8=\"เป็นบางครั้ง\",2,IF(F8=\"เป็นบ่อยครั้ง\",3,4))))","v":2}]
[null,{"$f":"B8+1","v":2},"รู้จักรอคอยเมื่อยังไม่ถึงคราวหรือเวลาของตน",null,null,"เป็นบางครั้ง",{"$f":"IF(F9=\"\",\"\",IF(F9=\"ไม่เป็นเลย\",1,IF(F9=\"เป็นบางครั้ง\",2,IF(F9=\"เป็นบ่อยครั้ง\",3,4))))","v":2}]
[null,{"$f":"B9+1","v":3},"ยับยั้งที่จะทำอะไรตามอำเภอใจตนเอง",null,null,"เป็นบางครั้ง",2]
[null,4,"ต้องการอะไรต้องได้ทันที",null,null,"เป็นประจำ",{"$f":"IF(F11=\"\",\"\",IF(F11=\"ไม่เป็นเลย\",4,IF(F11=\"เป็นบางครั้ง\",3,IF(F11=\"เป็นบ่อยครั้ง\",2,1))))","v":1}]
[null,5,"เมื่อมีอารมณ์โกรธ ต้องใช้เวลานานกว่าจะหายโกรธ",null,null,"เป็นบ่อยครั้ง",{"$f":"IF(F12=\"\",\"\",IF(F12=\"ไม่เป็นเลย\",4,IF(F12=\"เป็นบางครั้ง\",3,IF(F12=\"เป็นบ่อยครั้ง\",2,1))))","v":2}]
[null,6,"หมกมุ่นกับการเล่นมากเกินไป",null,null,"เป็นบ่อยครั้ง",2]
[null,7,"ชี้แจงเหตุผลแทนการใช้กำลัง",null,null,"เป็นบางครั้ง",{"$f":"IF(F14=\"\",\"\",IF(F14=\"ไม่เป็นเลย\",1,IF(F14=\"เป็นบางครั้ง\",2,IF(F14=\"เป็นบ่อยครั้ง\",3,4))))","v":2}]
[null,8,"ช่วยปกป้อง ดูแล และช่วยเหลือเด็กที่เล็กกว่า",null,null,"เป็นบางครั้ง",{"$f":"IF(F15=\"\",\"\",IF(F15=\"ไม่เป็นเลย\",1,IF(F15=\"เป็นบางครั้ง\",2,IF(F15=\"เป็นบ่อยครั้ง\",3,4))))","v":2}]
[null,9,"เห็นอกเห็นใจเมื่อผู้อื่นเดือดร้อน",null,null,"เป็นบางครั้ง",2]
[null,10,"ใส่ใจหรือรู้ว่าใครชอบอะไร ไม่ชอบอะไร",null,null,"ไม่เป็นเลย",1]
[null,11,"เป็นที่พึ่งได้เมื่อเพื่อนต้องการความช่วยเหลือ",null,null,"เป็นบางครั้ง",2]
[null,12,"ระมัดระวังที่จะไม่ทำให้ผู้อื่นเดือดร้อนหรือเสียใจ",null,null,"เป็นบางครั้ง",2]
[null,13,"ไม่ช่วยเหลือหรือไม่ให้ความร่วมมือกับผู้อื่น",null,null,"เป็นประจำ",{"$f":"IF(F20=\"\",\"\",IF(F20=\"ไม่เป็นเลย\",4,IF(F20=\"เป็นบางครั้ง\",3,IF(F20=\"เป็นบ่อยครั้ง\",2,1))))","v":1}]
[null,14,"รู้จักให้กำลังใจผู้อื่น",null,null,"เป็นบางครั้ง",{"$f":"IF(F21=\"\",\"\",IF(F21=\"ไม่เป็นเลย\",1,IF(F21=\"เป็นบางครั้ง\",2,IF(F21=\"เป็นบ่อยครั้ง\",3,4))))","v":2}]
[null,15,"รู้จักรับฟังผู้อื่น",null,null,"เป็นบ่อยครั้ง",{"$f":"IF(F22=\"\",\"\",IF(F22=\"ไม่เป็นเลย\",1,IF(F22=\"เป็นบางครั้ง\",2,IF(F22=\"เป็นบ่อยครั้ง\",3,4))))","v":3}]
[null,16,"รู้จักแสดงความห่วงใยผู้อื่น",null,null,"เป็นบางครั้ง",2]
[null,17,"มักสารภาพเมื่อทำผิด",null,null,"เป็นบ่อยครั้ง",3]
[null,18,"ไม่ชอบแกล้งเพื่อน",null,null,"เป็นบ่อยครั้ง",3]
[null,19,"ยอมรับว่าผิดเมื่อถูกถาม",null,null,"เป็นบ่อยครั้ง",3]
[null,20,"เมื่อทำผิด มักแก้ตัวว่าไม่ได้ตั้งใจ",null,null,"เป็นประจำ",{"$f":"IF(F27=\"\",\"\",IF(F27=\"ไม่เป็นเลย\",4,IF(F27=\"เป็นบางครั้ง\",3,IF(F27=\"เป็นบ่อยครั้ง\",2,1))))","v":1}]
[null,21,"ยอมรับกฎเกณฑ์ เช่น ยอมรับการลงโทษเมื่อทำผิด",null,null,"เป็นบ่อยครั้ง",{"$f":"IF(F28=\"\",\"\",IF(F28=\"ไม่เป็นเลย\",1,IF(F28=\"เป็นบางครั้ง\",2,IF(F28=\"เป็นบ่อยครั้ง\",3,4))))","v":3}]
[null,22,"รู้จักขอโทษ",null,null,"เป็นประจำ",{"$f":"IF(F29=\"\",\"\",IF(F29=\"ไม่เป็นเลย\",1,IF(F29=\"เป็นบางครั้ง\",2,IF(F29=\"เป็นบ่อยครั้ง\",3,4))))","v":4}]
[null,23,"ยอมรับคำตำหนิหรือตักเตือนเมื่อทำผิด",null,null,"เป็นบ่อยครั้ง",3]
[null,24,"มีความตั้งใจเมื่อทำสิ่งต่างๆ ที่สนใจ",null,null,"เป็นประจำ",4]
[null,25,"มีสมาธิในการทำงาน เช่น อ่านหนังสือได้นานๆ",null,null,"เป็นประจำ",4]
[null,26,"พยายามทำงานที่ยากให้สำเร็จได้ด้วยตนเอง เช่น การบ้าน การฝีมือ",null,null,"เป็นประจำ",4]
[null,27,"สนุกกับการแก้ปัญหายากๆ หรือท้าทาย เช่น ปัญหาการบ้านของเล่นที่แปลกๆ ใหม่ๆ",null,null,"เป็นบางครั้ง",2]
[null,28,"เฉื่อยชา ไม่สนใจที่จะทำงานให้เสร็จ",null,null,"เป็นประจำ",{"$f":"IF(F35=\"\",\"\",IF(F35=\"ไม่เป็นเลย\",4,IF(F35=\"เป็นบางครั้ง\",3,IF(F35=\"เป็นบ่อยครั้ง\",2,1))))","v":1}]
[null,29,"บ่นหรือต่อรองว่างานต่างๆ ยากเกินกว่าที่จะทำได้ทั้งๆ ที่ยังไม่ได้ลงมือทำ",null,null,"เป็นประจำ",{"$f":"IF(F36=\"\",\"\",IF(F36=\"ไม่เป็นเลย\",4,IF(F36=\"เป็นบางครั้ง\",3,IF(F36=\"เป็นบ่อยครั้ง\",2,1))))","v":1}]
[null,30,"ทำงานต่อไปจนเสร็จแม้ว่าเพื่อนๆ ไปเล่นแล้วก็ตาม",null,null,"เป็นประจำ",{"$f":"IF(F37=\"\",\"\",IF(F37=\"ไม่เป็นเลย\",1,IF(F37=\"เป็นบางครั้ง\",2,IF(F37=\"เป็นบ่อยครั้ง\",3,4))))","v":4}]
[null,31,"ไม่ท้อใจเมื่อประสบกับความผิดหวัง",null,null,"เป็นบางครั้ง",{"$f":"IF(F38=\"\",\"\",IF(F38=\"ไม่เป็นเลย\",1,IF(F38=\"เป็นบางครั้ง\",2,IF(F38=\"เป็นบ่อยครั้ง\",3,4))))","v":2}]
[null,32,"หาทางตกลงกับเพื่อนหรือเด็กคนอื่นเมื่อเกิดขัดแย้งกัน",null,null,"เป็นบางครั้ง",2]
[null,33,"ไม่เอะอะโวยวายเมื่อพบปัญหาหรือความยุ่งยาก",null,null,"เป็นบางครั้ง",2]
[null,34,"รู้จักรอจังหวะหรือรอคอยเวลาที่เหมาะสมในการแก้ปัญหา",null,null,"เป็นบ่อยครั้ง",3]
[null,35,"เมื่อมีปัญหา จะคิดหาวิธีแก้หลายๆ ทาง",null,null,"เป็นบ่อยครั้ง",3]
[null,36,"ร่วมกิจกรรมที่ตนไม่ชอบ หรือไม่ถนัดกับผู้อื่นได้",null,null,"เป็นบางครั้ง",2]
[null,37,"ทักทายหรือทำความรู้จักกับเพื่อนใหม่",null,null,"เป็นประจำ",{"$f":"IF(F44=\"\",\"\",IF(F44=\"ไม่เป็นเลย\",1,IF(F44=\"เป็นบางครั้ง\",2,IF(F44=\"เป็นบ่อยครั้ง\",3,4))))","v":4}]
[null,38,"กล้าแสดงความสามารถที่มีอยู่ต่อหน้าคนหมู่มาก",null,null,"เป็นบ่อยครั้ง",3]
[null,39,"กล้าซักถามข้อสงสัย",null,null,"เป็นประจำ",4]
[null,40,"เมื่อถูกถาม ใช้วิธีนิ่งเฉย แทนการตอบว่าไม่รู้",null,null,"เป็นบ่อยครั้ง",{"$f":"IF(F47=\"\",\"\",IF(F47=\"ไม่เป็นเลย\",4,IF(F47=\"เป็นบางครั้ง\",3,IF(F47=\"เป็นบ่อยครั้ง\",2,1))))","v":2}]
[null,41,"มักจะใช้ข้ออ้างเมื่อไม่กล้าทำอะไร",null,null,"เป็นประจำ",{"$f":"IF(F48=\"\",\"\",IF(F48=\"ไม่เป็นเลย\",4,IF(F48=\"เป็นบางครั้ง\",3,IF(F48=\"เป็นบ่อยครั้ง\",2,1))))","v":1}]
[null,42,"ไม่กล้าออกความเห็นเมื่ออยู่กับผู้อื่น",null,null,"เป็นประจำ",1]
[null,43,"เล่าถึงความสำเร็จของตนเองให้ผู้ใหญ่ฟัง",null,null,"เป็นประจำ",{"$f":"IF(F50=\"\",\"\",IF(F50=\"ไม่เป็นเลย\",1,IF(F50=\"เป็นบางครั้ง\",2,IF(F50=\"เป็นบ่อยครั้ง\",3,4))))","v":4}]
[null,44,"ไม่อายในสิ่งที่ตนมีอยู่ เช่น ฐานะบ้าน อาชีพของพ่อแม่ รูปร่างหน้าตาความสามารถของตนเอง ฯลฯ",null,null,"เป็นบ่อยครั้ง",{"$f":"IF(F51=\"\",\"\",IF(F51=\"ไม่เป็นเลย\",1,IF(F51=\"เป็นบางครั้ง\",2,IF(F51=\"เป็นบ่อยครั้ง\",3,4))))","v":3}]
[null,45,"ภูมิใจที่ตนเองมีจุดดีหรือความสามารถพิเศษบางอย่าง เช่น เรียนเก่ง  เล่นกีฬาเก่ง  เล่นดนตรีได้",null,null,"เป็นบางครั้ง",2]
[null,46,"ภูมิใจที่ได้รับความไว้วางใจจากผู้ใหญ่ เช่น ดูแลน้อง ดูแลสัตว์เลี้ยงช่วยเหลืองานผู้ใหญ่",null,null,"เป็นประจำ",4]
[null,47,"น้อยใจง่าย",null,null,"เป็นบ่อยครั้ง",{"$f":"IF(F54=\"\",\"\",IF(F54=\"ไม่เป็นเลย\",4,IF(F54=\"เป็นบางครั้ง\",3,IF(F54=\"เป็นบ่อยครั้ง\",2,1))))","v":2}]
[null,48,"รู้สึกน้อยเนื้อต่ำใจที่สู้คนอื่นไม่ได้",null,null,"เป็นบ่อยครั้ง",{"$f":"IF(F55=\"\",\"\",IF(F55=\"ไม่เป็นเลย\",4,IF(F55=\"เป็นบางครั้ง\",3,IF(F55=\"เป็นบ่อยครั้ง\",2,1))))","v":2}]
[null,49,"พอใจกับผลการเรียนที่ได้ แม้จะไม่ดีเด่นมากนัก",null,null,"เป็นบางครั้ง",{"$f":"IF(F56=\"\",\"\",IF(F56=\"ไม่เป็นเลย\",1,IF(F56=\"เป็นบางครั้ง\",2,IF(F56=\"เป็นบ่อยครั้ง\",3,4))))","v":2}]
[null,50,"เมื่อไม่ได้สิ่งที่ต้องการก็รู้จักยอมรับสิ่งทดแทนอย่างอื่น",null,null,"เป็นบางครั้ง",{"$f":"IF(F57=\"\",\"\",IF(F57=\"ไม่เป็นเลย\",1,IF(F57=\"เป็นบางครั้ง\",2,IF(F57=\"เป็นบ่อยครั้ง\",3,4))))","v":2}]
[null,51,"แม้เกมหรือกีฬาแพ้ก็ไม่เสียใจนาน",null,null,"เป็นบางครั้ง",2]
[null,52,"แม้เป็นสิ่งที่ไม่จำเป็นก็เรียกร้องที่จะเอาให้ได้ตามที่ต้องการ",null,null,"เป็นบ่อยครั้ง",{"$f":"IF(F59=\"\",\"\",IF(F59=\"ไม่เป็นเลย\",4,IF(F59=\"เป็นบางครั้ง\",3,IF(F59=\"เป็นบ่อยครั้ง\",2,1))))","v":2}]
[null,53,"หงุดหงิดอยู่นานเมื่อไม่ได้ดั่งใจ",null,null,"เป็นบ่อยครั้ง",{"$f":"IF(F60=\"\",\"\",IF(F60=\"ไม่เป็นเลย\",4,IF(F60=\"เป็นบางครั้ง\",3,IF(F60=\"เป็นบ่อยครั้ง\",2,1))))","v":2}]
[null,54,"เมื่อทำอะไรไม่ได้ตามต้องการจะผิดหวังมาก เช่น บ่น คร่ำครวญ หรือซึม",null,null,"เป็นบ่อยครั้ง",2]
[null,55,"มีอารมณ์ขัน",null,null,"เป็นบ่อยครั้ง",{"$f":"IF(F62=\"\",\"\",IF(F62=\"ไม่เป็นเลย\",1,IF(F62=\"เป็นบางครั้ง\",2,IF(F62=\"เป็นบ่อยครั้ง\",3,4))))","v":3}]
[null,56,"เล่นสนุกสนานหรือล้อกันเล่นสนุกๆ ได้",null,null,"เป็นบ่อยครั้ง",{"$f":"IF(F63=\"\",\"\",IF(F63=\"ไม่เป็นเลย\",1,IF(F63=\"เป็นบางครั้ง\",2,IF(F63=\"เป็นบ่อยครั้ง\",3,4))))","v":3}]
[null,{"$f":"B63+1","v":57},"เมื่ออยู่คนเดียวก็รู้จักหาสิ่งของมาทำให้ตัวเองเพลิดเพลินได้",null,null,"เป็นบางครั้ง",2]
[null,58,"รู้จักผ่อนคลายอารมณ์ด้วยการดูหนัง ฟังเพลง เล่นสนุก วาดรูป  พูดคุยกับเพื่อน",null,null,"เป็นบางครั้ง",2]
[null,{"$f":"B65+1","v":59},"เป็นคนแจ่มใส ยิ้มง่าย หัวเราะง่าย",null,null,"เป็นบางครั้ง",2]
[null,60,"สนุกกับการแข่งขันแม้จะรู้ว่าไม่ชนะ",null,null,"เป็นบ่อยครั้ง",3,"กรอกข้อมูลเสร็จแล้วกรุณากดปุ่ม \"บันทึก\" ทุกครั้ง"]

{"sheet":"คะแนนประเมิน","index":4,"n_rows":62,"n_cols":62,"rows_kept":62,"cut":false,"hidden":false,"merged":[[13,0,13,1],[0,0,1,0],[0,2,0,61],[0,1,1,1],[2,0,2,1],[3,0,3,1],[4,0,4,1],[5,0,5,1],[6,0,6,1],[7,0,7,1],[8,0,8,1],[9,0,9,1],[10,0,10,1],[11,0,11,1],[12,0,12,1],[25,0,25,1],[14,0,14,1],[15,0,15,1],[16,0,16,1],[17,0,17,1],[18,0,18,1],[19,0,19,1],[20,0,20,1],[21,0,21,1],[22,0,22,1],[23,0,23,1],[24,0,24,1],[37,0,37,1],[26,0,26,1],[27,0,27,1],[28,0,28,1],[29,0,29,1],[30,0,30,1],[31,0,31,1],[32,0,32,1],[33,0,33,1],[34,0,34,1],[35,0,35,1],[36,0,36,1],[49,0,49,1],[38,0,38,1],[39,0,39,1],[40,0,40,1],[41,0,41,1],[42,0,42,1],[43,0,43,1],[44,0,44,1],[45,0,45,1],[46,0,46,1],[47,0,47,1],[48,0,48,1],[61,0,61,1],[50,0,50,1],[51,0,51,1],[52,0,52,1],[53,0,53,1],[54,0,54,1],[55,0,55,1],[56,0,56,1],[57,0,57,1],[58,0,58,1],[59,0,59,1],[60,0,60,1]]}
["ข้อที่","เลขที่","ข้อมูลคะแนนนักเรียนที่ตอบแบบประเมิน"]
[null,null,1,{"$f":"C2+1","v":2},{"$f":"D2+1","v":3},4,5,6,7,8,9,10,11,12,13,14,15,16,17,18,19,20,21,22,23,24,25,26,27,28,29,30,31,32,33,34,35,36,{"$f":"AL2+1","v":37},38,39,40,41,42,43,44,45,46,47,48,49,50,51,52,53,54,{"$f":"BD2+1","v":55},56,57,58,59,60]
[{"$f":"รายชื่อ!A3","v":1},null,2,2,2,1,1,1,1,1,""]
[{"$f":"รายชื่อ!A4","v":2},null,2,2,3,2,2,2,2,2,""]
[{"$f":"รายชื่อ!A5","v":3},null,1,2,2,2,2,2,2,2,""]
[{"$f":"รายชื่อ!A6","v":4},null,4,4,3,1,1,2,1,3,""]
[{"$f":"รายชื่อ!A7","v":5},null,3,3,2,1,1,1,2,2,""]
[{"$f":"รายชื่อ!A8","v":6},null,3,3,3,2,2,2,2,2,""]
[{"$f":"รายชื่อ!A9","v":7},null,2,2,1,3,2,3,3,3,""]
[{"$f":"รายชื่อ!A10","v":8},null,2,2,3,3,3,3,3,3,""]
[{"$f":"รายชื่อ!A11","v":9},null,2,2,2,1,2,2,3,3,""]
[{"$f":"รายชื่อ!A12","v":10},null,1,1,3,3,3,3,2,3,""]
[{"$f":"รายชื่อ!A13","v":11},null,2,2,2,3,3,2,2,3,""]
[{"$f":"รายชื่อ!A14","v":12},null,2,2,1,3,3,3,2,3,""]
[{"$f":"รายชื่อ!A15","v":13},null,3,4,1,1,2,1,2,4,""]
[{"$f":"รายชื่อ!A16","v":14},null,3,2,2,4,3,3,3,3,""]
[{"$f":"รายชื่อ!A17","v":15},null,3,3,3,3,3,3,2,3,""]
[{"$f":"รายชื่อ!A18","v":16},null,2,2,1,2,3,3,3,3,""]
[{"$f":"รายชื่อ!A19","v":17},null,4,3,3,3,2,3,2,2,""]
[{"$f":"รายชื่อ!A20","v":18},null,2,3,2,3,3,2,2,3,""]
[{"$f":"รายชื่อ!A21","v":19},null,2,3,3,3,3,3,3,2,""]
[{"$f":"รายชื่อ!A22","v":20},null,3,4,2,2,2,1,2,3,""]
[{"$f":"รายชื่อ!A23","v":21},null,4,3,3,4,4,4,4,3,""]
[{"$f":"รายชื่อ!A24","v":22},null,2,4,2,4,4,3,4,4,""]
[{"$f":"รายชื่อ!A25","v":23},null,2,3,1,4,3,3,3,3,""]
[{"$f":"รายชื่อ!A26","v":24},null,3,4,1,3,3,3,4,3,""]
[{"$f":"รายชื่อ!A27","v":25},null,2,4,3,4,4,3,4,3,""]
[{"$f":"รายชื่อ!A28","v":26},null,2,4,3,3,3,3,3,2,""]
[{"$f":"รายชื่อ!A29","v":27},null,1,2,2,3,3,3,4,4,""]
[{"$f":"รายชื่อ!A30","v":28},null,3,4,3,1,1,1,2,2,""]
[{"$f":"รายชื่อ!A31","v":29},null,3,4,2,1,2,2,2,3,""]
[{"$f":"รายชื่อ!A32","v":30},null,2,4,3,3,3,2,2,3,""]
[{"$f":"รายชื่อ!A33","v":31},null,2,2,1,4,2,2,4,2,""]
[{"$f":"รายชื่อ!A34","v":32},null,2,2,1,3,2,2,2,2,""]
[{"$f":"รายชื่อ!A35","v":33},null,2,2,1,4,3,2,2,2,""]
[{"$f":"รายชื่อ!A36","v":34},null,2,3,1,3,4,3,4,2,""]
[{"$f":"รายชื่อ!A37","v":35},null,2,3,1,3,3,4,2,2,""]
[{"$f":"รายชื่อ!A38","v":36},null,1,2,1,3,3,2,3,2,""]
[{"$f":"รายชื่อ!A39","v":37},null,2,4,2,4,3,2,3,2,""]
[{"$f":"รายชื่อ!A40","v":38},null,2,3,1,2,2,2,2,2,""]
[{"$f":"รายชื่อ!A41","v":39},null,2,4,1,3,2,3,3,2,""]
[{"$f":"รายชื่อ!A42","v":40},null,4,3,4,1,3,2,1,3,""]
[{"$f":"รายชื่อ!A43","v":41},null,3,4,4,1,1,2,1,3,""]
[{"$f":"รายชื่อ!A44","v":42},null,4,4,2,2,1,2,2,3,""]
[{"$f":"รายชื่อ!A45","v":43},null,2,4,1,3,2,2,4,2,""]
[{"$f":"รายชื่อ!A46","v":44},null,2,3,1,4,4,4,2,2,""]
[{"$f":"รายชื่อ!A47","v":45},null,3,2,1,4,4,4,4,2,""]
[{"$f":"รายชื่อ!A48","v":46},null,2,4,1,3,4,4,4,2,""]
[{"$f":"รายชื่อ!A49","v":47},null,4,3,4,2,3,2,3,3,""]
[{"$f":"รายชื่อ!A50","v":48},null,4,3,2,2,2,1,1,3,""]
[{"$f":"รายชื่อ!A51","v":49},null,2,2,3,4,2,4,3,2,""]
[{"$f":"รายชื่อ!A52","v":50},null,2,2,1,3,4,2,2,2,""]
[{"$f":"รายชื่อ!A53","v":51},null,4,2,1,3,3,3,3,2,""]
[{"$f":"รายชื่อ!A54","v":52},null,3,3,3,2,2,1,2,3,""]
[{"$f":"รายชื่อ!A55","v":53},null,3,3,2,1,1,2,2,3,""]
[{"$f":"รายชื่อ!A56","v":54},null,3,3,3,2,2,2,3,3,""]
[{"$f":"รายชื่อ!A57","v":55},null,2,3,1,4,4,4,3,2,""]
[{"$f":"รายชื่อ!A58","v":56},null,2,3,4,4,4,3,3,2,""]
[{"$f":"รายชื่อ!A59","v":57},null,3,2,4,4,4,3,4,2,""]
[{"$f":"รายชื่อ!A60","v":58},null,2,2,4,4,3,3,4,2,""]
[{"$f":"รายชื่อ!A61","v":59},null,2,2,4,4,4,3,4,2,""]
[{"$f":"รายชื่อ!A62","v":60},null,2,3,4,4,4,3,4,2,""]

{"sheet":"คำตอบของนักเรียน","index":5,"n_rows":62,"n_cols":62,"rows_kept":62,"cut":false,"hidden":true,"merged":[[59,0,59,1],[60,0,60,1],[61,0,61,1],[53,0,53,1],[54,0,54,1],[55,0,55,1],[56,0,56,1],[57,0,57,1],[58,0,58,1],[52,0,52,1],[41,0,41,1],[42,0,42,1],[43,0,43,1],[44,0,44,1],[45,0,45,1],[46,0,46,1],[47,0,47,1],[48,0,48,1],[49,0,49,1],[50,0,50,1],[51,0,51,1],[40,0,40,1],[29,0,29,1],[30,0,30,1],[31,0,31,1],[32,0,32,1],[33,0,33,1],[34,0,34,1],[35,0,35,1],[36,0,36,1],[37,0,37,1],[38,0,38,1],[39,0,39,1],[28,0,28,1],[17,0,17,1],[18,0,18,1],[19,0,19,1],[20,0,20,1],[21,0,21,1],[22,0,22,1],[23,0,23,1],[24,0,24,1],[25,0,25,1],[26,0,26,1],[27,0,27,1],[16,0,16,1],[5,0,5,1],[6,0,6,1],[7,0,7,1],[8,0,8,1],[9,0,9,1],[10,0,10,1],[11,0,11,1],[12,0,12,1],[13,0,13,1],[14,0,14,1],[15,0,15,1],[4,0,4,1],[0,0,1,0],[0,1,1,1],[0,2,0,61],[2,0,2,1],[3,0,3,1]]}
["ข้อที่","เลขที่","ข้อมูลคะแนนนักเรียนที่ตอบแบบประเมิน"]
[null,null,1,{"$f":"C2+1","v":2},{"$f":"D2+1","v":3},4,5,6,7,8,9,10,11,12,13,14,15,16,17,18,19,20,21,22,23,24,25,26,27,28,29,30,31,32,33,34,35,36,{"$f":"AL2+1","v":37},38,39,40,41,42,43,44,45,46,47,48,49,50,51,52,53,54,{"$f":"BD2+1","v":55},56,57,58,59,60]
[{"$f":"รายชื่อ!A3","v":1},null,2,2,2,1,1,1,1,1,0]
[{"$f":"รายชื่อ!A4","v":2},null,2,2,3,2,2,2,2,2,0]
[{"$f":"รายชื่อ!A5","v":3},null,1,2,2,2,2,2,2,2,0]
[{"$f":"รายชื่อ!A6","v":4},null,1,1,2,4,4,3,4,2,0]
[{"$f":"รายชื่อ!A7","v":5},null,2,2,3,4,4,4,3,3,0]
[{"$f":"รายชื่อ!A8","v":6},null,2,2,2,3,3,3,3,3,0]
[{"$f":"รายชื่อ!A9","v":7},null,2,2,1,3,2,3,3,3,0]
[{"$f":"รายชื่อ!A10","v":8},null,2,2,3,3,3,3,3,3,0]
[{"$f":"รายชื่อ!A11","v":9},null,2,2,2,1,2,2,3,3,0]
[{"$f":"รายชื่อ!A12","v":10},null,1,1,3,3,3,3,2,3,0]
[{"$f":"รายชื่อ!A13","v":11},null,2,2,2,3,3,2,2,3,0]
[{"$f":"รายชื่อ!A14","v":12},null,2,2,1,3,3,3,2,3,0]
[{"$f":"รายชื่อ!A15","v":13},null,2,1,4,4,3,4,3,1,0]
[{"$f":"รายชื่อ!A16","v":14},null,3,2,2,4,3,3,3,3,0]
[{"$f":"รายชื่อ!A17","v":15},null,3,3,3,3,3,3,2,3,0]
[{"$f":"รายชื่อ!A18","v":16},null,2,2,1,2,3,3,3,3,0]
[{"$f":"รายชื่อ!A19","v":17},null,4,3,3,3,2,3,2,2,0]
[{"$f":"รายชื่อ!A20","v":18},null,2,3,2,3,3,2,2,3,0]
[{"$f":"รายชื่อ!A21","v":19},null,2,3,3,3,3,3,3,2,0]
[{"$f":"รายชื่อ!A22","v":20},null,2,1,3,3,3,4,3,2,0]
[{"$f":"รายชื่อ!A23","v":21},null,4,3,3,4,4,4,4,3,0]
[{"$f":"รายชื่อ!A24","v":22},null,2,4,2,4,4,3,4,4,0]
[{"$f":"รายชื่อ!A25","v":23},null,2,3,1,4,3,3,3,3,0]
[{"$f":"รายชื่อ!A26","v":24},null,3,4,1,3,3,3,4,3,0]
[{"$f":"รายชื่อ!A27","v":25},null,2,4,3,4,4,3,4,3,0]
[{"$f":"รายชื่อ!A28","v":26},null,2,4,3,3,3,3,3,2,0]
[{"$f":"รายชื่อ!A29","v":27},null,1,2,2,3,3,3,4,4,0]
[{"$f":"รายชื่อ!A30","v":28},null,2,1,2,4,4,4,3,3,0]
[{"$f":"รายชื่อ!A31","v":29},null,2,1,3,4,3,3,3,2,0]
[{"$f":"รายชื่อ!A32","v":30},null,2,4,3,3,3,2,2,3,0]
[{"$f":"รายชื่อ!A33","v":31},null,2,2,1,4,2,2,4,2,0]
[{"$f":"รายชื่อ!A34","v":32},null,2,2,1,3,2,2,2,2,0]
[{"$f":"รายชื่อ!A35","v":33},null,2,2,1,4,3,2,2,2,0]
[{"$f":"รายชื่อ!A36","v":34},null,2,3,1,3,4,3,4,2,0]
[{"$f":"รายชื่อ!A37","v":35},null,2,3,1,3,3,4,2,2,0]
[{"$f":"รายชื่อ!A38","v":36},null,1,2,1,3,3,2,3,2,0]
[{"$f":"รายชื่อ!A39","v":37},null,2,4,2,4,3,2,3,2,0]
[{"$f":"รายชื่อ!A40","v":38},null,2,3,1,2,2,2,2,2,0]
[{"$f":"รายชื่อ!A41","v":39},null,2,4,1,3,2,3,3,2,0]
[{"$f":"รายชื่อ!A42","v":40},null,1,2,1,4,2,3,4,2,0]
[{"$f":"รายชื่อ!A43","v":41},null,2,1,1,4,4,3,4,2,0]
[{"$f":"รายชื่อ!A44","v":42},null,1,1,3,3,4,3,3,2,0]
[{"$f":"รายชื่อ!A45","v":43},null,2,4,1,3,2,2,4,2,0]
[{"$f":"รายชื่อ!A46","v":44},null,2,3,1,4,4,4,2,2,0]
[{"$f":"รายชื่อ!A47","v":45},null,3,2,1,4,4,4,4,2,0]
[{"$f":"รายชื่อ!A48","v":46},null,2,4,1,3,4,4,4,2,0]
[{"$f":"รายชื่อ!A49","v":47},null,1,2,1,3,2,3,2,2,0]
[{"$f":"รายชื่อ!A50","v":48},null,1,2,3,3,3,4,4,2,0]
[{"$f":"รายชื่อ!A51","v":49},null,2,2,3,4,2,4,3,2,0]
[{"$f":"รายชื่อ!A52","v":50},null,2,2,1,3,4,2,2,2,0]
[{"$f":"รายชื่อ!A53","v":51},null,4,2,1,3,3,3,3,2,0]
[{"$f":"รายชื่อ!A54","v":52},null,2,2,2,3,3,4,3,2,0]
[{"$f":"รายชื่อ!A55","v":53},null,2,2,3,4,4,3,3,2,0]
[{"$f":"รายชื่อ!A56","v":54},null,2,2,2,3,3,3,2,2,0]
[{"$f":"รายชื่อ!A57","v":55},null,2,3,1,4,4,4,3,2,0]
[{"$f":"รายชื่อ!A58","v":56},null,2,3,4,4,4,3,3,2,0]
[{"$f":"รายชื่อ!A59","v":57},null,3,2,4,4,4,3,4,2,0]
[{"$f":"รายชื่อ!A60","v":58},null,2,2,4,4,3,3,4,2,0]
[{"$f":"รายชื่อ!A61","v":59},null,2,2,4,4,4,3,4,2,0]
[{"$f":"รายชื่อ!A62","v":60},null,2,3,4,4,4,3,4,2,0]

{"sheet":"ตารางคะแนนที","index":6,"n_rows":37,"n_cols":10,"rows_kept":37,"cut":false,"hidden":false,"merged":[[1,1,1,3],[1,4,1,6],[1,7,1,9],[0,0,0,9],[1,0,2,0]]}
["ตารางเปรียบเทียบคะแนนที่ได้กับเกณฑ์ปกติคะแนนที (T-Score Norms) ของความฉลาดทางอารมณ์ในแต่ละด้าน 6 - 11 ปี"]
["คะแนนดิบ","ดี",null,null,"เก่ง",null,null,"สุข"]
[null,1.1000000000000001,1.2,1.3,2.1,2.2000000000000002,2.2999999999999998,3.1,3.2,3.3]
[3]
[{"$f":"A4+1","v":4}]
[{"$f":"A5+1","v":5}]
[6,null,null,null,null,22,11,11,7,9]
[7,10,null,13,13,{"$f":"F7+3","v":25},{"$f":"G7+3","v":14},{"$f":"H7+3","v":14},{"$f":"I7+3","v":10},{"$f":"J7+3","v":12}]
[8,{"$f":"B8+3","v":13},null,{"$f":"D8+2","v":15},{"$f":"E8+3","v":16},{"$f":"F8+2","v":27},{"$f":"G8+3","v":17},{"$f":"H8+3","v":17},{"$f":"I8+4","v":14},{"$f":"J8+3","v":15}]
[9,{"$f":"B9+3","v":16},15,{"$f":"D9+3","v":18},{"$f":"E9+2","v":18},{"$f":"F9+3","v":30},20,20,{"$f":"I9+3","v":17},18]
[10,19,{"$f":"C10+2","v":17},{"$f":"D10+2","v":20},20,{"$f":"F10+3","v":33},23,23,20,21]
[11,22,{"$f":"C11+2","v":19},{"$f":"D11+3","v":23},{"$f":"E11+3","v":23},35,26,26,23,24]
[12,25,21,25,25,{"$f":"F12+3","v":38},29,29,{"$f":"I12+4","v":27},{"$f":"J12+2","v":26}]
[13,28,{"$f":"C13+1","v":22},{"$f":"D13+3","v":28},27,{"$f":"F13+3","v":41},32,32,30,29]
[14,31,24,30,{"$f":"E14+3","v":30},43,35,35,33,32]
[15,34,26,{"$f":"D15+3","v":33},32,{"$f":"F15+3","v":46},38,38,36,35]
[16,37,28,35,34,{"$f":"F16+3","v":49},41,41,{"$f":"I16+4","v":40},38]
[17,40,30,{"$f":"D17+3","v":38},{"$f":"E17+3","v":37},51,44,44,43,41]
[18,43,32,40,39,{"$f":"F18+3","v":54},47,{"$f":"H18+4","v":48},46,{"$f":"J18+2","v":43}]
[19,46,34,{"$f":"D19+3","v":43},41,{"$f":"F19+3","v":57},50,51,49,46]
[20,{"$f":"B20+2","v":48},36,45,{"$f":"E20+3","v":44},59,53,54,{"$f":"I20+4","v":53},49]
[21,51,38,{"$f":"D21+3","v":48},46,{"$f":"F21+3","v":62},56,57,56,52]
[22,54,40,50,48,64,59,60,59,55]
[{"$f":"A23+1","v":23},57,42,{"$f":"D23+3","v":53},{"$f":"E23+3","v":51},{"$f":"F23+3","v":67},62,63,{"$f":"I23+4","v":63},58]
[24,60,44,55,53,{"$f":"F24+3","v":70},65,66,66,{"$f":"J24+2","v":60}]
[25,63,{"$f":"C25+1","v":45},{"$f":"D25+3","v":58},55]
[26,66,47,60,{"$f":"E26+3","v":58}]
[27,69,49,{"$f":"D27+3","v":63},60]
[28,72,51,65,62]
[29,null,53]
[30,null,55]
[{"$f":"A31+1","v":31},null,57]
[32,null,59]
[33,null,61]
[34,null,63]
[{"$f":"A35+1","v":35},null,65]
[36,null,67]

{"sheet":"01-แบบประเมินรายบุคคล","index":7,"n_rows":67,"n_cols":9,"rows_kept":67,"cut":false,"hidden":false,"merged":[[0,0,0,6],[4,1,4,5],[3,1,3,6]]}
["แบบประเมินความฉลาดทางอารมณ์ (EQ) อายุ 6 – 11 ปี "]
[null,"ชื่อ-สกุล","เด็กชายวิทวัส  แซ่ท้าว","ชั้น",{"$f":"ตั้งค่า!C9","v":"5/1"},"เลขที่",1]
[]
[null,"            ข้อความต่อไปนี้เป็นการอธิบายถึงอารมณ์  ความรู้สึกและพฤติกรรมของเด็กในช่วง  4  เดือน  ที่ผ่านมา\n\n",null,null,null,null,null,"เลขที่",1]
[null,"โปรดทำเครื่องหมาย  P  ในช่องที่ท่านเห็นว่าตรงกับเด็กมากที่สุด"]
[]
[null,"ที่","อารมณ์  ความรู้สึก  พฤติกรรม","ไม่เป็นเลย","เป็นบางครั้ง","เป็นบ่อยครั้ง","เป็นประจำ"]
[null,1,"ไม่ใช้กำลังเวลาโกรธหรือไม่พอใจ",null,"P"]
[null,{"$f":"B8+1","v":2},"รู้จักรอคอยเมื่อยังไม่ถึงคราวหรือเวลาของตน",null,"P"]
[null,{"$f":"B9+1","v":3},"ยับยั้งที่จะทำอะไรตามอำเภอใจตนเอง","P"]
[null,4,"ต้องการอะไรต้องได้ทันที","P"]
[null,5,"เมื่อมีอารมณ์โกรธ ต้องใช้เวลานานกว่าจะหายโกรธ",null,"P"]
[null,6,"หมกมุ่นกับการเล่นมากเกินไป",null,"P"]
[null,7,"ชี้แจงเหตุผลแทนการใช้กำลัง",null,"P"]
[null,8,"ช่วยปกป้อง ดูแล และช่วยเหลือเด็กที่เล็กกว่า",null,"P"]
[null,9,"เห็นอกเห็นใจเมื่อผู้อื่นเดือดร้อน",null,"P"]
[null,10,"ใส่ใจหรือรู้ว่าใครชอบอะไร ไม่ชอบอะไร","P"]
[null,11,"เป็นที่พึ่งได้เมื่อเพื่อนต้องการความช่วยเหลือ",null,"P"]
[null,12,"ระมัดระวังที่จะไม่ทำให้ผู้อื่นเดือดร้อนหรือเสียใจ",null,"P"]
[null,13,"ไม่ช่วยเหลือหรือไม่ให้ความร่วมมือกับผู้อื่น",null,"P"]
[null,14,"รู้จักให้กำลังใจผู้อื่น",null,null,"P"]
[null,15,"รู้จักรับฟังผู้อื่น",null,null,"P"]
[null,16,"รู้จักแสดงความห่วงใยผู้อื่น",null,"P"]
[null,17,"มักสารภาพเมื่อทำผิด",null,null,null,"P"]
[null,18,"ไม่ชอบแกล้งเพื่อน",null,"P"]
[null,19,"ยอมรับว่าผิดเมื่อถูกถาม",null,"P"]
[null,20,"เมื่อทำผิด มักแก้ตัวว่าไม่ได้ตั้งใจ",null,"P"]
[null,21,"ยอมรับกฎเกณฑ์ เช่น ยอมรับการลงโทษเมื่อทำผิด",null,null,null,"P"]
[null,22,"รู้จักขอโทษ",null,"P"]
[null,23,"ยอมรับคำตำหนิหรือตักเตือนเมื่อทำผิด",null,"P"]
[null,24,"มีความตั้งใจเมื่อทำสิ่งต่างๆ ที่สนใจ",null,null,"P"]
[null,25,"มีสมาธิในการทำงาน เช่น อ่านหนังสือได้นานๆ",null,"P"]
[null,26,"พยายามทำงานที่ยากให้สำเร็จได้ด้วยตนเอง เช่น การบ้าน การฝีมือ",null,"P"]
[null,27,"สนุกกับการแก้ปัญหายากๆ หรือท้าทาย เช่น ปัญหาการบ้านของเล่นที่แปลกๆ ใหม่ๆ","P"]
[null,28,"เฉื่อยชา ไม่สนใจที่จะทำงานให้เสร็จ",null,"P"]
[null,29,"บ่นหรือต่อรองว่างานต่างๆ ยากเกินกว่าที่จะทำได้ทั้งๆ ที่ยังไม่ได้ลงมือทำ",null,"P"]
[null,30,"ทำงานต่อไปจนเสร็จแม้ว่าเพื่อนๆ ไปเล่นแล้วก็ตาม",null,"P"]
[null,31,"ไม่ท้อใจเมื่อประสบกับความผิดหวัง",null,"P"]
[null,32,"หาทางตกลงกับเพื่อนหรือเด็กคนอื่นเมื่อเกิดขัดแย้งกัน",null,"P"]
[null,33,"ไม่เอะอะโวยวายเมื่อพบปัญหาหรือความยุ่งยาก",null,"P"]
[null,34,"รู้จักรอจังหวะหรือรอคอยเวลาที่เหมาะสมในการแก้ปัญหา",null,"P"]
[null,35,"เมื่อมีปัญหา จะคิดหาวิธีแก้หลายๆ ทาง",null,"P"]
[null,36,"ร่วมกิจกรรมที่ตนไม่ชอบ หรือไม่ถนัดกับผู้อื่นได้","P"]
[null,37,"ทักทายหรือทำความรู้จักกับเพื่อนใหม่",null,"P"]
[null,38,"กล้าแสดงความสามารถที่มีอยู่ต่อหน้าคนหมู่มาก",null,"P"]
[null,39,"กล้าซักถามข้อสงสัย",null,"P"]
[null,40,"เมื่อถูกถาม ใช้วิธีนิ่งเฉย แทนการตอบว่าไม่รู้","P"]
[null,41,"มักจะใช้ข้ออ้างเมื่อไม่กล้าทำอะไร",null,"P"]
[null,42,"ไม่กล้าออกความเห็นเมื่ออยู่กับผู้อื่น","P"]
[null,43,"เล่าถึงความสำเร็จของตนเองให้ผู้ใหญ่ฟัง",null,"P"]
[null,44,"ไม่อายในสิ่งที่ตนมีอยู่ เช่น ฐานะบ้าน อาชีพของพ่อแม่ รูปร่างหน้าตาความสามารถของตนเอง ฯลฯ",null,"P"]
[null,45,"ภูมิใจที่ตนเองมีจุดดีหรือความสามารถพิเศษบางอย่าง เช่น เรียนเก่ง  เล่นกีฬาเก่ง  เล่นดนตรีได้",null,null,"P"]
[null,46,"ภูมิใจที่ได้รับความไว้วางใจจากผู้ใหญ่ เช่น ดูแลน้อง ดูแลสัตว์เลี้ยงช่วยเหลืองานผู้ใหญ่",null,"P"]
[null,47,"น้อยใจง่าย","P"]
[null,48,"รู้สึกน้อยเนื้อต่ำใจที่สู้คนอื่นไม่ได้","P"]
[null,49,"พอใจกับผลการเรียนที่ได้ แม้จะไม่ดีเด่นมากนัก",null,"P"]
[null,50,"เมื่อไม่ได้สิ่งที่ต้องการก็รู้จักยอมรับสิ่งทดแทนอย่างอื่น",null,"P"]
[null,51,"แม้เกมหรือกีฬาแพ้ก็ไม่เสียใจนาน",null,null,null,"P"]
[null,52,"แม้เป็นสิ่งที่ไม่จำเป็นก็เรียกร้องที่จะเอาให้ได้ตามที่ต้องการ",null,"P"]
[null,53,"หงุดหงิดอยู่นานเมื่อไม่ได้ดั่งใจ",null,"P"]
[null,54,"เมื่อทำอะไรไม่ได้ตามต้องการจะผิดหวังมาก เช่น บ่น คร่ำครวญ หรือซึม",null,"P"]
[null,55,"มีอารมณ์ขัน",null,"P"]
[null,56,"เล่นสนุกสนานหรือล้อกันเล่นสนุกๆ ได้",null,"P"]
[null,{"$f":"B63+1","v":57},"เมื่ออยู่คนเดียวก็รู้จักหาสิ่งของมาทำให้ตัวเองเพลิดเพลินได้",null,null,"P"]
[null,58,"รู้จักผ่อนคลายอารมณ์ด้วยการดูหนัง ฟังเพลง เล่นสนุก วาดรูป  พูดคุยกับเพื่อน",null,"P"]
[null,{"$f":"B65+1","v":59},"เป็นคนแจ่มใส ยิ้มง่าย หัวเราะง่าย",null,"P"]
[null,60,"สนุกกับการแข่งขันแม้จะรู้ว่าไม่ชนะ",null,"P"]

{"sheet":"02-สรุปผลประเมินรายบุคคล","index":8,"n_rows":29,"n_cols":17,"rows_kept":29,"cut":false,"hidden":false,"merged":[[1,0,1,14],[4,1,4,2],[4,10,4,11],[4,12,4,13],[5,1,7,2],[2,1,2,2],[2,3,2,9],[5,10,5,11],[5,12,5,13],[6,10,6,11],[6,12,6,13],[7,10,7,11],[7,12,7,13],[4,8,4,9],[5,3,5,7],[6,3,6,7],[8,10,8,11],[8,12,8,13],[9,10,9,11],[8,1,10,2],[11,1,13,2],[9,3,9,7],[11,10,11,11],[11,12,11,13],[12,10,12,11],[12,12,12,13],[19,1,19,2],[20,1,20,2],[21,1,21,2],[19,12,21,13],[9,8,9,9],[13,10,13,11],[13,12,13,13],[15,0,15,14],[17,3,17,5],[17,6,17,8],[17,9,17,11],[17,1,18,2],[17,12,18,13],[9,12,9,13],[10,10,10,11],[10,12,10,13],[4,3,4,7],[10,8,10,9],[11,8,11,9],[12,8,12,9],[13,8,13,9],[10,3,10,7],[11,3,11,7],[12,3,12,7],[13,3,13,7],[7,3,7,7],[8,3,8,7],[5,8,5,9],[6,8,6,9],[7,8,7,9],[8,8,8,9]]}
[]
["สรุปผลการประเมินความฉลาดทางอารมณ์ (EQ) อายุ 6 – 11 ปี "]
[null,"ชื่อ - สกุล",null,"เด็กชายวิทวัส  แซ่ท้าว",null,null,null,null,null,null,"ชั้น",{"$f":"ตั้งค่า!C9","v":"5/1"},"เลขที่",1]
[null,null,null,null,null,null,null,null,null,null,null,null,null,null,null,"เลขที่",1]
[null,"ด้าน",null,"รายการ",null,null,null,null,"ข้อที่",null,"คะแนน",null,"คะแนนที"]
[null,"ดี",null,"1.1 ควบคุมอารมณ์",null,null,null,null,"1 - 7",null,17,null,40]
[null,null,null,"1.2 ใส่ใจและเข้าใจอารมณ์ผู้อื่น",null,null,null,null,"7 - 16",null,22,null,40]
[null,null,null,"1.3 ยอมรับถูกผิด",null,null,null,null,"16 - 23",null,19,null,43]
[null,"เก่ง",null,"2.1 มุ่งมั่นพยายาม",null,null,null,null,"24 - 30",null,16,null,34]
[null,null,null,"2.2 ปรับตัวต่อปัญหา",null,null,null,null,"31 - 36",null,11,null,35]
[null,null,null,"2.3 กล้าแสดงออก",null,null,null,null,"37 - 42",null,17,null,44]
[null,"สุข",null,"3.1 พอใจในตนเอง",null,null,null,null,"43 - 48",null,17,null,44]
[null,null,null,"3.2 รู้จักปรับใจ",null,null,null,null,"49 - 54",null,17,null,43]
[null,null,null,"3.3 รื่นเริงเบิกบาน",null,null,null,null,"55 - 60",null,13,null,29]
[]
["ตารางการแปลผลความฉลาดทางอารมณ์ (EQ) อายุ 6 – 11 ปี "]
[]
[null,"เกณฑ์คะแนนที (T-Score Norms) คะแนน",null,"1. ดี",null,null,"2. เก่ง",null,null,"3. สุข",null,null,"ความฉลาดทางอารมณ์รวม (คะแนนรวมทุกด้าน/9)"]
[null,null,null,1.1000000000000001,1.2,1.3,2.1,2.2000000000000002,2.2999999999999998,3.1,3.2,3.3]
[null,"50 -100",null,{"$f":"IF(M6=\"\",\"\",IF(AND(M6>=50,M6<=100),M6,\"\"))","v":""},{"$f":"IF(M7=\"\",\"\",IF(AND(M7>=50,M7<=100),M7,\"\"))","v":""},{"$f":"IF(M8=\"\",\"\",IF(AND(M8>=50,M8<=100),M8,\"\"))","v":""},{"$f":"IF(M9=\"\",\"\",IF(AND(M9>=50,M9<=100),M9,\"\"))","v":""},{"$f":"IF(M10=\"\",\"\",IF(AND(M10>=50,M10<=100),M10,\"\"))","v":""},{"$f":"IF(M11=\"\",\"\",IF(AND(M11>=50,M11<=100),M11,\"\"))","v":""},{"$f":"IF(M12=\"\",\"\",IF(AND(M12>=50,M12<=100),M12,\"\"))","v":""},{"$f":"IF(M13=\"\",\"\",IF(AND(M13>=50,M13<=100),M13,\"\"))","v":""},{"$f":"IF(M14=\"\",\"\",IF(AND(M14>=50,M14<=100),M14,\"\"))","v":""},{"$f":"IF(M6=\"\",\"\",SUM(M6:N14)&\"/9 = \"&ROUND((SUM(M6:N14)/9),2))","v":"352/9 = 39.11"}]
[null,"40 - 49",null,{"$f":"IF(M6=\"\",\"\",IF(AND(M6>=40,M6<=49),M6,\"\"))","v":40},{"$f":"IF(M7=\"\",\"\",IF(AND(M7>=40,M7<=49),M7,\"\"))","v":40},{"$f":"IF(M8=\"\",\"\",IF(AND(M8>=40,M8<=49),M8,\"\"))","v":43},{"$f":"IF(M9=\"\",\"\",IF(AND(M9>=40,M9<=49),M9,\"\"))","v":""},{"$f":"IF(M10=\"\",\"\",IF(AND(M10>=40,M10<=49),M10,\"\"))","v":""},{"$f":"IF(M11=\"\",\"\",IF(AND(M11>=40,M11<=49),M11,\"\"))","v":44},{"$f":"IF(M12=\"\",\"\",IF(AND(M12>=40,M12<=49),M12,\"\"))","v":44},{"$f":"IF(M13=\"\",\"\",IF(AND(M13>=40,M13<=49),M13,\"\"))","v":43},{"$f":"IF(M14=\"\",\"\",IF(AND(M14>=40,M14<=49),M14,\"\"))","v":""}]
[null,"0 - 39",null,{"$f":"IF(M6=\"\",\"\",IF(AND(M6>=0,M6<=39),M6,\"\"))","v":""},{"$f":"IF(M7=\"\",\"\",IF(AND(M7>=0,M7<=39),M7,\"\"))","v":""},{"$f":"IF(M8=\"\",\"\",IF(AND(M8>=0,M8<=39),M8,\"\"))","v":""},{"$f":"IF(M9=\"\",\"\",IF(AND(M9>=0,M9<=39),M9,\"\"))","v":34},{"$f":"IF(M10=\"\",\"\",IF(AND(M10>=0,M10<=39),M10,\"\"))","v":35},{"$f":"IF(M11=\"\",\"\",IF(AND(M11>=0,M11<=39),M11,\"\"))","v":""},{"$f":"IF(M12=\"\",\"\",IF(AND(M12>=0,M12<=39),M12,\"\"))","v":""},{"$f":"IF(M13=\"\",\"\",IF(AND(M13>=0,M13<=39),M13,\"\"))","v":""},{"$f":"IF(M14=\"\",\"\",IF(AND(M14>=0,M14<=39),M14,\"\"))","v":29}]
[]
[null,null,"เกณฑ์คะแนนทีตั้งแต่ 50 ขึ้นไป บ่งบอกว่าเด็กมีความฉลาดทางอารมณ์อยู่ในเกณฑ์ที่ดี ควรส่งเสริม"]
[null,"และรักษาคุณลักษณะนี้ให้คงไว้"]
[null,null,"เกณฑ์คะแนนทีตั้งแต่ 40 - 49 บ่งบอกว่าเด็กควรได้รับการพัฒนาความฉลาดทางอารมณ์ในด้านนั้นๆ"]
[null,"ให้ดียิ่งขึ้น"]
[null,null,"เกณฑ์คะแนนที่ต่ำกว่า 40 คะแนน บ่งบอกว่าเด็กจำเป็นต้องได้รับการพัฒนาความฉลาดทางอารมณ์"]
[null,"ในด้านนั้นๆ ให้ดียิ่งขึ้น"]

{"sheet":"คะแนนที","index":9,"n_rows":20,"n_cols":62,"rows_kept":20,"cut":false,"hidden":true,"merged":[[10,0,10,1],[0,0,1,0],[0,1,1,1],[0,2,0,61],[2,0,2,1],[3,0,3,1],[4,0,4,1],[5,0,5,1],[6,0,6,1],[7,0,7,1],[8,0,8,1],[9,0,9,1],[16,0,16,1],[17,0,17,1],[18,0,18,1],[19,0,19,1],[11,0,11,1],[12,0,12,1],[13,0,13,1],[14,0,14,1],[15,0,15,1],[20,0,20,1],[21,0,21,1],[22,0,22,1],[23,0,23,1],[24,0,24,1]]}
["ข้อที่","เลขที่","ข้อมูลคะแนนทีนักเรียนที่ตอบแบบประเมิน"]
[null,null,1,{"$f":"C2+1","v":2},{"$f":"D2+1","v":3},4,5,6,7,8,9,10,11,12,13,14,15,16,17,18,19,20,21,22,23,24,25,26,27,28,29,30,31,32,33,34,35,36,{"$f":"AL2+1","v":37},38,39,40,41,42,43,44,45,46,47,48,49,50,51,52,53,54,{"$f":"BD2+1","v":55},56,57,58,59,60]
[1.1000000000000001,null,17,18,16,12,11,13,13,15]
[1.2,null,22,22,19,26,27,26,25,31]
[1.3,null,19,23,16,23,21,19,20,20]
[2.1,null,16,26,17,18,19,17,21,20]
[2.2000000000000002,null,11,14,6,20,17,15,17,12]
[2.2999999999999998,null,17,22,14,13,12,13,12,15]
[3.1,null,17,19,10,18,19,17,18,14]
[3.2,null,17,15,13,15,14,14,15,15]
[3.3,null,13,15,21,24,23,19,22,12]
[1.1000000000000001,null,40,43,37,25,22,28,28,34]
[1.2,null,40,40,34,47,49,47,45,57]
[1.3,null,43,53,35,53,48,43,45,45]
[2.1,null,34,58,37,39,41,37,46,44]
[2.2000000000000002,null,35,43,22,59,51,46,51,38]
[2.2999999999999998,null,44,59,35,32,29,32,29,38]
[3.1,null,44,51,23,48,51,44,48,35]
[3.2,null,43,36,30,36,33,33,36,36]
[3.3,null,29,35,52,60,58,46,55,26]

{"sheet":"คะแนนที2","index":10,"n_rows":62,"n_cols":13,"rows_kept":62,"cut":false,"hidden":true,"merged":[[0,0,1,0],[0,1,0,12]]}
["เลขที่","ข้อมูลคะแนนทีนักเรียนที่ตอบแบบประเมิน"]
[null,1,{"$f":"B2+1","v":2},{"$f":"C2+1","v":3},4,5,6,7,8,9]
[1,40,40,43,34,35,44,44,43,29,{"$f":"SUM(B3:J3)","v":352},{"$f":"K3/9","v":39.111111111111114},{"$f":"IF(L3>=50,\"ควรส่งเสริมและรักษา\",IF(L3>=40,\"ควรได้รับการพัฒนา\",\"จำเป็นต้องได้รับการพัฒนา\"))","v":"จำเป็นต้องได้รับการพัฒนา"}]
[{"$f":"A3+1","v":2},43,40,53,58,43,59,51,36,35,{"$f":"SUM(B4:J4)","v":418},{"$f":"K4/9","v":46.444444444444443},"ควรได้รับการพัฒนา"]
[{"$f":"A4+1","v":3},37,34,35,37,22,35,23,30,52,305,33.888888888888886,"จำเป็นต้องได้รับการพัฒนา"]
[4,25,47,53,39,59,32,48,36,60,399,44.333333333333336,"ควรได้รับการพัฒนา"]
[5,22,49,48,41,51,29,51,33,58,382,42.444444444444443,"ควรได้รับการพัฒนา"]
[6,28,47,43,37,46,32,44,33,46,356,39.555555555555557,"จำเป็นต้องได้รับการพัฒนา"]
[7,28,45,45,46,51,29,48,36,55,383,42.555555555555557,"ควรได้รับการพัฒนา"]
[8,34,57,45,44,38,38,35,36,26,353,39.222222222222221,"จำเป็นต้องได้รับการพัฒนา"]
[9,null,null,null,null,null,null,null,null,null,0,0,"จำเป็นต้องได้รับการพัฒนา"]
[10,null,null,null,null,null,null,null,null,null,0,0,"จำเป็นต้องได้รับการพัฒนา"]
[11,null,null,null,null,null,null,null,null,null,0,0,"จำเป็นต้องได้รับการพัฒนา"]
[12,null,null,null,null,null,null,null,null,null,0,0,"จำเป็นต้องได้รับการพัฒนา"]
[13,null,null,null,null,null,null,null,null,null,0,0,"จำเป็นต้องได้รับการพัฒนา"]
[14,null,null,null,null,null,null,null,null,null,0,0,"จำเป็นต้องได้รับการพัฒนา"]
[15,null,null,null,null,null,null,null,null,null,0,0,"จำเป็นต้องได้รับการพัฒนา"]
[16,null,null,null,null,null,null,null,null,null,0,0,"จำเป็นต้องได้รับการพัฒนา"]
[17,null,null,null,null,null,null,null,null,null,0,0,"จำเป็นต้องได้รับการพัฒนา"]
[18,null,null,null,null,null,null,null,null,null,0,0,"จำเป็นต้องได้รับการพัฒนา"]
[{"$f":"A20+1","v":19},null,null,null,null,null,null,null,null,null,0,0,"จำเป็นต้องได้รับการพัฒนา"]
[20,null,null,null,null,null,null,null,null,null,0,0,"จำเป็นต้องได้รับการพัฒนา"]
[21,null,null,null,null,null,null,null,null,null,0,0,{"$f":"IF(L23>=50,\"ควรส่งเสริมและรักษา\",IF(L23>=40,\"ควรได้รับการพัฒนา\",\"จำเป็นต้องได้รับการพัฒนา\"))","v":"จำเป็นต้องได้รับการพัฒนา"}]
[22,null,null,null,null,null,null,null,null,null,0,0,"จำเป็นต้องได้รับการพัฒนา"]
[23,null,null,null,null,null,null,null,null,null,0,0,"จำเป็นต้องได้รับการพัฒนา"]
[24,null,null,null,null,null,null,null,null,null,0,0,"จำเป็นต้องได้รับการพัฒนา"]
[25,null,null,null,null,null,null,null,null,null,0,0,"จำเป็นต้องได้รับการพัฒนา"]
[26,null,null,null,null,null,null,null,null,null,0,0,"จำเป็นต้องได้รับการพัฒนา"]
[27,null,null,null,null,null,null,null,null,null,0,0,"จำเป็นต้องได้รับการพัฒนา"]
[28,null,null,null,null,null,null,null,null,null,0,0,"จำเป็นต้องได้รับการพัฒนา"]
[29,null,null,null,null,null,null,null,null,null,0,0,"จำเป็นต้องได้รับการพัฒนา"]
[30,null,null,null,null,null,null,null,null,null,0,0,"จำเป็นต้องได้รับการพัฒนา"]
[31,null,null,null,null,null,null,null,null,null,0,0,"จำเป็นต้องได้รับการพัฒนา"]
[32,null,null,null,null,null,null,null,null,null,0,0,"จำเป็นต้องได้รับการพัฒนา"]
[33,null,null,null,null,null,null,null,null,null,0,0,"จำเป็นต้องได้รับการพัฒนา"]
[34,null,null,null,null,null,null,null,null,null,0,0,"จำเป็นต้องได้รับการพัฒนา"]
[35,null,null,null,null,null,null,null,null,null,0,0,"จำเป็นต้องได้รับการพัฒนา"]
[36,null,null,null,null,null,null,null,null,null,0,0,"จำเป็นต้องได้รับการพัฒนา"]
[37,null,null,null,null,null,null,null,null,null,0,0,"จำเป็นต้องได้รับการพัฒนา"]
[38,null,null,null,null,null,null,null,null,null,0,0,"จำเป็นต้องได้รับการพัฒนา"]
[39,null,null,null,null,null,null,null,null,null,0,0,"จำเป็นต้องได้รับการพัฒนา"]
[40,null,null,null,null,null,null,null,null,null,0,0,"จำเป็นต้องได้รับการพัฒนา"]
[41,null,null,null,null,null,null,null,null,null,0,0,"จำเป็นต้องได้รับการพัฒนา"]
[42,null,null,null,null,null,null,null,null,null,0,0,"จำเป็นต้องได้รับการพัฒนา"]
[43,null,null,null,null,null,null,null,null,null,0,0,"จำเป็นต้องได้รับการพัฒนา"]
[44,null,null,null,null,null,null,null,null,null,0,0,"จำเป็นต้องได้รับการพัฒนา"]
[45,null,null,null,null,null,null,null,null,null,0,0,"จำเป็นต้องได้รับการพัฒนา"]
[46,null,null,null,null,null,null,null,null,null,0,0,"จำเป็นต้องได้รับการพัฒนา"]
[47,null,null,null,null,null,null,null,null,null,0,0,"จำเป็นต้องได้รับการพัฒนา"]
[48,null,null,null,null,null,null,null,null,null,0,0,{"$f":"IF(L50>=50,\"ควรส่งเสริมและรักษา\",IF(L50>=40,\"ควรได้รับการพัฒนา\",\"จำเป็นต้องได้รับการพัฒนา\"))","v":"จำเป็นต้องได้รับการพัฒนา"}]
[49,null,null,null,null,null,null,null,null,null,0,0,{"$f":"IF(L51>=50,\"ควรส่งเสริมและรักษา\",IF(L51>=40,\"ควรได้รับการพัฒนา\",\"จำเป็นต้องได้รับการพัฒนา\"))","v":"จำเป็นต้องได้รับการพัฒนา"}]
[50,null,null,null,null,null,null,null,null,null,0,0,"จำเป็นต้องได้รับการพัฒนา"]
[51,null,null,null,null,null,null,null,null,null,0,0,"จำเป็นต้องได้รับการพัฒนา"]
[52,null,null,null,null,null,null,null,null,null,0,0,"จำเป็นต้องได้รับการพัฒนา"]
[53,null,null,null,null,null,null,null,null,null,0,0,"จำเป็นต้องได้รับการพัฒนา"]
[54,null,null,null,null,null,null,null,null,null,0,0,"จำเป็นต้องได้รับการพัฒนา"]
[55,null,null,null,null,null,null,null,null,null,0,0,"จำเป็นต้องได้รับการพัฒนา"]
[56,null,null,null,null,null,null,null,null,null,0,0,"จำเป็นต้องได้รับการพัฒนา"]
[57,null,null,null,null,null,null,null,null,null,0,0,"จำเป็นต้องได้รับการพัฒนา"]
[58,null,null,null,null,null,null,null,null,null,0,0,"จำเป็นต้องได้รับการพัฒนา"]
[{"$f":"A60+1","v":59},null,null,null,null,null,null,null,null,null,0,0,"จำเป็นต้องได้รับการพัฒนา"]
[60,null,null,null,null,null,null,null,null,null,0,0,"จำเป็นต้องได้รับการพัฒนา"]

{"sheet":"03-สรุปผลประเมินรายชั้น","index":11,"n_rows":38,"n_cols":17,"rows_kept":38,"cut":false,"hidden":false,"merged":[[5,0,7,0],[35,12,35,14],[36,12,36,14],[37,12,37,14],[37,10,37,11],[36,10,36,11],[28,12,28,14],[23,10,23,11],[24,10,24,11],[25,10,25,11],[34,12,34,14],[23,12,23,14],[24,12,24,14],[25,12,25,14],[26,12,26,14],[27,12,27,14],[29,12,29,14],[30,12,30,14],[31,12,31,14],[32,12,32,14],[33,12,33,14],[26,10,26,11],[20,12,20,14],[21,12,21,14],[22,12,22,14],[20,10,20,11],[21,10,21,11],[22,10,22,11],[17,12,17,14],[18,12,18,14],[19,12,19,14],[17,10,17,11],[18,10,18,11],[19,10,19,11],[14,12,14,14],[15,12,15,14],[16,12,16,14],[14,10,14,11],[15,10,15,11],[16,10,16,11],[8,10,8,11],[9,10,9,11],[10,10,10,11],[12,12,12,14],[13,12,13,14],[11,10,11,11],[12,10,12,11],[13,10,13,11],[1,0,1,1],[1,8,1,10],[1,11,1,14],[0,0,0,14],[1,2,1,7],[2,12,2,14],[3,0,3,1],[3,7,3,8],[3,9,3,14],[2,5,2,6],[2,10,2,11],[2,2,2,4],[2,7,2,9],[2,0,2,1],[3,2,3,4],[5,1,5,9],[6,1,6,3],[6,4,6,6],[6,7,6,9],[5,10,7,11],[5,12,7,14],[8,12,8,14],[9,12,9,14],[10,12,10,14],[11,12,11,14],[32,10,32,11],[33,10,33,11],[34,10,34,11],[35,10,35,11],[27,10,27,11],[28,10,28,11],[29,10,29,11],[30,10,30,11],[31,10,31,11]]}
["สรุปผลการประเมินความฉลาดทางอารมณ์ (EQ) อายุ 6 – 11 ปี "]
["โรงเรียน",null,{"$f":"ตั้งค่า!C11","v":"บ้านน้ำสอด"},null,null,null,null,null,"สำนักงานเขตพื่นที่",null,null,{"$f":"ตั้งค่า!C15","v":"ประถมศึกษาน่าน เขต 2"}]
["ตำบล",null,{"$f":"ตั้งค่า!C12","v":"และ"},null,null,"อำเภอ",null,{"$f":"ตั้งค่า!C13","v":"ทุ่งช้าง"},null,null,"จังหวัด",null,{"$f":"ตั้งค่า!C14","v":"น่าน"}]
["ประเมินวันที่",null,{"$f":"ตั้งค่า!C16","v":"2560-03-16"},null,null,"ชั้น",{"$f":"ตั้งค่า!C9","v":"5/1"},"ผู้ประเมิน",null,{"$f":"ตั้งค่า!C17","v":"นายบุญธรรม  บุญลาภังค์"},null,null,null,null,null,"เลขที่","1 - 30"]
[]
["เลขที่","เกณฑ์คะแนนที (T-Score Norms) คะแนน",null,null,null,null,null,null,null,null,"ความฉลาดทางอารมณ์รวม (คะแนนรวมทุกด้าน/9)",null,"แปลผล"]
[null,"1. ดี",null,null,"2. เก่ง",null,null,"3. สุข"]
[null,1.1000000000000001,1.2,1.3,2.1,2.2000000000000002,2.2999999999999998,3.1,3.2,3.3]
[1,40,40,43,34,35,44,44,43,29,{"$f":"IF(B9=\"\",\"\",(SUM(B9:J9)/9))","v":39.111111111111114},null,{"$f":"IF(K9=\"\",\"\",IF(K9>=50,\"ควรส่งเสริมและรักษา\",IF(K9>=40,\"ควรได้รับการพัฒนา\",\"จำเป็นต้องได้รับการพัฒนา\")))","v":"จำเป็นต้องได้รับการพัฒนา"}]
[2,43,40,53,58,43,59,51,36,35,{"$f":"IF(B10=\"\",\"\",(SUM(B10:J10)/9))","v":46.444444444444443},null,{"$f":"IF(K10=\"\",\"\",IF(K10>=50,\"ควรส่งเสริมและรักษา\",IF(K10>=40,\"ควรได้รับการพัฒนา\",\"จำเป็นต้องได้รับการพัฒนา\")))","v":"ควรได้รับการพัฒนา"}]
[3,37,34,35,37,22,35,23,30,52,33.888888888888886,null,"จำเป็นต้องได้รับการพัฒนา"]
[4,25,47,53,39,59,32,48,36,60,44.333333333333336,null,"ควรได้รับการพัฒนา"]
[5,22,49,48,41,51,29,51,33,58,42.444444444444443,null,"ควรได้รับการพัฒนา"]
[6,28,47,43,37,46,32,44,33,46,39.555555555555557,null,"จำเป็นต้องได้รับการพัฒนา"]
[7,28,45,45,46,51,29,48,36,55,42.555555555555557,null,"ควรได้รับการพัฒนา"]
[8,34,57,45,44,38,38,35,36,26,39.222222222222221,null,"จำเป็นต้องได้รับการพัฒนา"]
[9,null,null,null,null,null,null,null,null,null,"",null,""]
[10,null,null,null,null,null,null,null,null,null,"",null,""]
[11,null,null,null,null,null,null,null,null,null,"",null,""]
[12,null,null,null,null,null,null,null,null,null,"",null,""]
[13,null,null,null,null,null,null,null,null,null,"",null,""]
[14,null,null,null,null,null,null,null,null,null,"",null,""]
[15,null,null,null,null,null,null,null,null,null,"",null,""]
[16,null,null,null,null,null,null,null,null,null,"",null,""]
[17,null,null,null,null,null,null,null,null,null,"",null,""]
[18,null,null,null,null,null,null,null,null,null,"",null,""]
[19,null,null,null,null,null,null,null,null,null,"",null,""]
[20,null,null,null,null,null,null,null,null,null,"",null,""]
[21,null,null,null,null,null,null,null,null,null,"",null,""]
[22,null,null,null,null,null,null,null,null,null,"",null,""]
[23,null,null,null,null,null,null,null,null,null,"",null,""]
[24,null,null,null,null,null,null,null,null,null,"",null,""]
[25,null,null,null,null,null,null,null,null,null,"",null,""]
[26,null,null,null,null,null,null,null,null,null,"",null,""]
[27,null,null,null,null,null,null,null,null,null,"",null,""]
[28,null,null,null,null,null,null,null,null,null,"",null,""]
[29,null,null,null,null,null,null,null,null,null,"",null,""]
[30,null,null,null,null,null,null,null,null,null,"",null,""]